BEGIN:VCALENDAR
VERSION:2.0
PRODID:-//Hart Shopping Centre - ECPv6.15.20//NONSGML v1.0//EN
CALSCALE:GREGORIAN
METHOD:PUBLISH
X-WR-CALNAME:Hart Shopping Centre
X-ORIGINAL-URL:https://www.hartshopping.co.uk
X-WR-CALDESC:Events for Hart Shopping Centre
REFRESH-INTERVAL;VALUE=DURATION:PT1H
X-Robots-Tag:noindex
X-PUBLISHED-TTL:PT1H
BEGIN:VTIMEZONE
TZID:Europe/London
BEGIN:DAYLIGHT
TZOFFSETFROM:+0000
TZOFFSETTO:+0100
TZNAME:BST
DTSTART:20180325T010000
END:DAYLIGHT
BEGIN:STANDARD
TZOFFSETFROM:+0100
TZOFFSETTO:+0000
TZNAME:GMT
DTSTART:20181028T010000
END:STANDARD
BEGIN:DAYLIGHT
TZOFFSETFROM:+0000
TZOFFSETTO:+0100
TZNAME:BST
DTSTART:20190331T010000
END:DAYLIGHT
BEGIN:STANDARD
TZOFFSETFROM:+0100
TZOFFSETTO:+0000
TZNAME:GMT
DTSTART:20191027T010000
END:STANDARD
BEGIN:DAYLIGHT
TZOFFSETFROM:+0000
TZOFFSETTO:+0100
TZNAME:BST
DTSTART:20200329T010000
END:DAYLIGHT
BEGIN:STANDARD
TZOFFSETFROM:+0100
TZOFFSETTO:+0000
TZNAME:GMT
DTSTART:20201025T010000
END:STANDARD
END:VTIMEZONE
BEGIN:VEVENT
DTSTART;TZID=Europe/London:20190701T080000
DTEND;TZID=Europe/London:20190721T170000
DTSTAMP:20260419T204855
CREATED:20190627T111052Z
LAST-MODIFIED:20190627T111052Z
UID:1660-1561968000-1563728400@www.hartshopping.co.uk
SUMMARY:Phyllis Tuckwell 40th Anniversary Picture Exhibition
DESCRIPTION:
URL:https://www.hartshopping.co.uk/event/phyllis-tuckwell-40th-anniversary-picture-exhibition/
END:VEVENT
BEGIN:VEVENT
DTSTART;VALUE=DATE:20190626
DTEND;VALUE=DATE:20190630
DTSTAMP:20260419T204855
CREATED:20190620T095729Z
LAST-MODIFIED:20190620T095729Z
UID:1651-1561507200-1561852799@www.hartshopping.co.uk
SUMMARY:Quite Simply Designs by Heidi Stone
DESCRIPTION:Heidi has a beautiful range of unique handcrafted jewellery with semi-precious gemstones and pearls and  also offers a re-stringing and repair service.
URL:https://www.hartshopping.co.uk/event/quite-simply-designs-heidi-stone-3-2-2-2-2-2-2-2-2-2-2-2-3-2-2-2-2-2-2-2-2-2-2-2-2-2-2-2-2-2-2/
LOCATION:Hart Shopping Centre\, Fleet Road\, Fleet\, GU51 3LA\, United Kingdom
CATEGORIES:Who's in
END:VEVENT
BEGIN:VEVENT
DTSTART;TZID=Europe/London:20190622T100000
DTEND;TZID=Europe/London:20190622T160000
DTSTAMP:20260419T204855
CREATED:20190606T111600Z
LAST-MODIFIED:20190620T095756Z
UID:1637-1561197600-1561219200@www.hartshopping.co.uk
SUMMARY:Fleet Carnival Brochures
DESCRIPTION:
URL:https://www.hartshopping.co.uk/event/fleet-carnival-brochures/
END:VEVENT
BEGIN:VEVENT
DTSTART;TZID=Europe/London:20190621T110000
DTEND;TZID=Europe/London:20190621T160000
DTSTAMP:20260419T204855
CREATED:20180621T112957Z
LAST-MODIFIED:20190613T105108Z
UID:1241-1561114800-1561132800@www.hartshopping.co.uk
SUMMARY:U3A Photography Exhibition
DESCRIPTION:
URL:https://www.hartshopping.co.uk/event/u3a-photography-exhibition/
END:VEVENT
BEGIN:VEVENT
DTSTART;VALUE=DATE:20190619
DTEND;VALUE=DATE:20190623
DTSTAMP:20260419T204855
CREATED:20190613T105027Z
LAST-MODIFIED:20190613T105027Z
UID:1642-1560902400-1561247999@www.hartshopping.co.uk
SUMMARY:Quite Simply Designs by Heidi Stone
DESCRIPTION:Heidi has a beautiful range of unique handcrafted jewellery with semi-precious gemstones and pearls and  also offers a re-stringing and repair service.
URL:https://www.hartshopping.co.uk/event/quite-simply-designs-heidi-stone-3-2-2-2-2-2-2-2-2-2-2-2-3-2-2-2-2-2-2-2-2-2-2-2-2-2-2-2-2-2/
LOCATION:Hart Shopping Centre\, Fleet Road\, Fleet\, GU51 3LA\, United Kingdom
CATEGORIES:Who's in
END:VEVENT
BEGIN:VEVENT
DTSTART;VALUE=DATE:20190612
DTEND;VALUE=DATE:20190616
DTSTAMP:20260419T204855
CREATED:20190606T111316Z
LAST-MODIFIED:20190606T111316Z
UID:1635-1560297600-1560643199@www.hartshopping.co.uk
SUMMARY:Quite Simply Designs by Heidi Stone
DESCRIPTION:Heidi has a beautiful range of unique handcrafted jewellery with semi-precious gemstones and pearls and  also offers a re-stringing and repair service.
URL:https://www.hartshopping.co.uk/event/quite-simply-designs-heidi-stone-3-2-2-2-2-2-2-2-2-2-2-2-3-2-2-2-2-2-2-2-2-2-2-2-2-2-2-2-2/
LOCATION:Hart Shopping Centre\, Fleet Road\, Fleet\, GU51 3LA\, United Kingdom
CATEGORIES:Who's in
END:VEVENT
BEGIN:VEVENT
DTSTART;TZID=Europe/London:20190608T100000
DTEND;TZID=Europe/London:20190608T170000
DTSTAMP:20260419T204855
CREATED:20190530T103602Z
LAST-MODIFIED:20190530T103602Z
UID:1630-1559988000-1560013200@www.hartshopping.co.uk
SUMMARY:North East Hants Ramblers
DESCRIPTION:The North East Hampshire group of the Ramblers Association is based in the Farnborough\, Aldershot and Fleet area and is the local group of the Hampshire area of the Ramblers Association covering Rushmoor and Hart districts. Walks are open to all members of the Ramblers Association. The group now has over 200 members.
URL:https://www.hartshopping.co.uk/event/north-east-hants-ramblers/
END:VEVENT
BEGIN:VEVENT
DTSTART;TZID=Europe/London:20190608T100000
DTEND;TZID=Europe/London:20190608T160000
DTSTAMP:20260419T204855
CREATED:20180524T105118Z
LAST-MODIFIED:20190530T103324Z
UID:1209-1559988000-1560009600@www.hartshopping.co.uk
SUMMARY:All Saints Wives Group Fundraising
DESCRIPTION:
URL:https://www.hartshopping.co.uk/event/all-saints-wives-group-fundraising/
END:VEVENT
BEGIN:VEVENT
DTSTART;VALUE=DATE:20190605
DTEND;VALUE=DATE:20190609
DTSTAMP:20260419T204855
CREATED:20190530T102820Z
LAST-MODIFIED:20190530T102820Z
UID:1625-1559692800-1560038399@www.hartshopping.co.uk
SUMMARY:Quite Simply Designs by Heidi Stone
DESCRIPTION:Heidi has a beautiful range of unique handcrafted jewellery with semi-precious gemstones and pearls and  also offers a re-stringing and repair service.
URL:https://www.hartshopping.co.uk/event/quite-simply-designs-heidi-stone-3-2-2-2-2-2-2-2-2-2-2-2-3-2-2-2-2-2-2-2-2-2-2-2-2-2-2-2/
LOCATION:Hart Shopping Centre\, Fleet Road\, Fleet\, GU51 3LA\, United Kingdom
CATEGORIES:Who's in
END:VEVENT
BEGIN:VEVENT
DTSTART;TZID=Europe/London:20190531T100000
DTEND;TZID=Europe/London:20190531T160000
DTSTAMP:20260419T204855
CREATED:20190523T100120Z
LAST-MODIFIED:20190523T100120Z
UID:1602-1559296800-1559318400@www.hartshopping.co.uk
SUMMARY:Virgin Care
DESCRIPTION:Virgin Care provides health and care services across the country. They are in the Centre to advertise a new NHS service for people in the Fleet area who have multiple sclerosis.
URL:https://www.hartshopping.co.uk/event/virgin-care/
END:VEVENT
BEGIN:VEVENT
DTSTART;VALUE=DATE:20190529
DTEND;VALUE=DATE:20190602
DTSTAMP:20260419T204855
CREATED:20190523T095614Z
LAST-MODIFIED:20190523T095614Z
UID:1600-1559088000-1559433599@www.hartshopping.co.uk
SUMMARY:Quite Simply Designs by Heidi Stone
DESCRIPTION:Heidi has a beautiful range of unique handcrafted jewellery with semi-precious gemstones and pearls and  also offers a re-stringing and repair service.
URL:https://www.hartshopping.co.uk/event/quite-simply-designs-heidi-stone-3-2-2-2-2-2-2-2-2-2-2-2-3-2-2-2-2-2-2-2-2-2-2-2-2-2-2/
LOCATION:Hart Shopping Centre\, Fleet Road\, Fleet\, GU51 3LA\, United Kingdom
CATEGORIES:Who's in
END:VEVENT
BEGIN:VEVENT
DTSTART;VALUE=DATE:20190522
DTEND;VALUE=DATE:20190526
DTSTAMP:20260419T204855
CREATED:20190516T092024Z
LAST-MODIFIED:20190516T092024Z
UID:1583-1558483200-1558828799@www.hartshopping.co.uk
SUMMARY:Quite Simply Designs by Heidi Stone
DESCRIPTION:Heidi has a beautiful range of unique handcrafted jewellery with semi-precious gemstones and pearls and  also offers a re-stringing and repair service.
URL:https://www.hartshopping.co.uk/event/quite-simply-designs-heidi-stone-3-2-2-2-2-2-2-2-2-2-2-2-3-2-2-2-2-2-2-2-2-2-2-2-2-2/
LOCATION:Hart Shopping Centre\, Fleet Road\, Fleet\, GU51 3LA\, United Kingdom
CATEGORIES:Who's in
END:VEVENT
BEGIN:VEVENT
DTSTART;VALUE=DATE:20190515
DTEND;VALUE=DATE:20190519
DTSTAMP:20260419T204855
CREATED:20190509T122851Z
LAST-MODIFIED:20190509T122851Z
UID:1571-1557878400-1558223999@www.hartshopping.co.uk
SUMMARY:Quite Simply Designs by Heidi Stone
DESCRIPTION:Heidi has a beautiful range of unique handcrafted jewellery with semi-precious gemstones and pearls and  also offers a re-stringing and repair service.
URL:https://www.hartshopping.co.uk/event/quite-simply-designs-heidi-stone-3-2-2-2-2-2-2-2-2-2-2-2-3-2-2-2-2-2-2-2-2-2-2-2-2/
LOCATION:Hart Shopping Centre\, Fleet Road\, Fleet\, GU51 3LA\, United Kingdom
CATEGORIES:Who's in
END:VEVENT
BEGIN:VEVENT
DTSTART;TZID=Europe/London:20190513T100000
DTEND;TZID=Europe/London:20190519T170000
DTSTAMP:20260419T204855
CREATED:20190509T123117Z
LAST-MODIFIED:20190509T123117Z
UID:1573-1557741600-1558285200@www.hartshopping.co.uk
SUMMARY:CLIC Sargent
DESCRIPTION:CLIC Sargent fights tirelessly to stop cancer destroying young lives. They work hard to help when each child and young person needs it most.
URL:https://www.hartshopping.co.uk/event/clic-sargent/
END:VEVENT
BEGIN:VEVENT
DTSTART;TZID=Europe/London:20190511T100000
DTEND;TZID=Europe/London:20190511T170000
DTSTAMP:20260419T204855
CREATED:20190502T133931Z
LAST-MODIFIED:20190502T133931Z
UID:1565-1557568800-1557594000@www.hartshopping.co.uk
SUMMARY:Court Moor Community Playgroup
DESCRIPTION:Court Moor Community Playgroup has been established since 1978 offering excellent preschool childcare for all families in Fleet.
URL:https://www.hartshopping.co.uk/event/court-moor-community-playgroup/
END:VEVENT
BEGIN:VEVENT
DTSTART;VALUE=DATE:20190508
DTEND;VALUE=DATE:20190512
DTSTAMP:20260419T204855
CREATED:20190502T133645Z
LAST-MODIFIED:20190502T133645Z
UID:1563-1557273600-1557619199@www.hartshopping.co.uk
SUMMARY:Quite Simply Designs by Heidi Stone
DESCRIPTION:Heidi has a beautiful range of unique handcrafted jewellery with semi-precious gemstones and pearls and  also offers a re-stringing and repair service.
URL:https://www.hartshopping.co.uk/event/quite-simply-designs-heidi-stone-3-2-2-2-2-2-2-2-2-2-2-2-3-2-2-2-2-2-2-2-2-2-2-2/
LOCATION:Hart Shopping Centre\, Fleet Road\, Fleet\, GU51 3LA\, United Kingdom
CATEGORIES:Who's in
END:VEVENT
BEGIN:VEVENT
DTSTART;TZID=Europe/London:20190503T100000
DTEND;TZID=Europe/London:20190504T160000
DTSTAMP:20260419T204855
CREATED:20180308T115249Z
LAST-MODIFIED:20190425T095918Z
UID:1113-1556877600-1556985600@www.hartshopping.co.uk
SUMMARY:Fleet Art Society Exhibition
DESCRIPTION:Fleet Art Society were formed approximately 50 years ago and have grown to a current membership of around 200. They have a mixture of abilities ranging from experienced artists to those have only just embarked on the world of art. \nThe Society hangs paintings in the Outpatients Department of Fleet Hospital\, 10% of all sales at the Hospital and at the Art Exhibition is donated to Fleet Hospital.
URL:https://www.hartshopping.co.uk/event/fleet-art-society-exhibition-2/
LOCATION:Hart Shopping Centre\, Fleet Road\, Fleet\, GU51 3LA\, United Kingdom
END:VEVENT
BEGIN:VEVENT
DTSTART;VALUE=DATE:20190501
DTEND;VALUE=DATE:20190505
DTSTAMP:20260419T204855
CREATED:20190425T095815Z
LAST-MODIFIED:20190425T095815Z
UID:1551-1556668800-1557014399@www.hartshopping.co.uk
SUMMARY:Quite Simply Designs by Heidi Stone
DESCRIPTION:Heidi has a beautiful range of unique handcrafted jewellery with semi-precious gemstones and pearls and  also offers a re-stringing and repair service.
URL:https://www.hartshopping.co.uk/event/quite-simply-designs-heidi-stone-3-2-2-2-2-2-2-2-2-2-2-2-3-2-2-2-2-2-2-2-2-2-2/
LOCATION:Hart Shopping Centre\, Fleet Road\, Fleet\, GU51 3LA\, United Kingdom
CATEGORIES:Who's in
END:VEVENT
BEGIN:VEVENT
DTSTART;VALUE=DATE:20190417
DTEND;VALUE=DATE:20190421
DTSTAMP:20260419T204855
CREATED:20190328T120540Z
LAST-MODIFIED:20190328T120540Z
UID:1510-1555459200-1555804799@www.hartshopping.co.uk
SUMMARY:Quite Simply Designs by Heidi Stone
DESCRIPTION:Heidi has a beautiful range of unique handcrafted jewellery with semi-precious gemstones and pearls and  also offers a re-stringing and repair service.
URL:https://www.hartshopping.co.uk/event/quite-simply-designs-heidi-stone-3-2-2-2-2-2-2-2-2-2-2-2-3-2-2-2-2-2-2-2-2-2/
LOCATION:Hart Shopping Centre\, Fleet Road\, Fleet\, GU51 3LA\, United Kingdom
CATEGORIES:Who's in
END:VEVENT
BEGIN:VEVENT
DTSTART;TZID=Europe/London:20190413T090000
DTEND;TZID=Europe/London:20190413T170000
DTSTAMP:20260419T204855
CREATED:20180329T114047Z
LAST-MODIFIED:20190328T120832Z
UID:1155-1555146000-1555174800@www.hartshopping.co.uk
SUMMARY:Rotary Club Stroke Awareness
DESCRIPTION:Rotary Club are providing free blood pressure checks to passing members of the public.
URL:https://www.hartshopping.co.uk/event/rotary-club-stroke-awareness/
END:VEVENT
BEGIN:VEVENT
DTSTART;VALUE=DATE:20190410
DTEND;VALUE=DATE:20190414
DTSTAMP:20260419T204855
CREATED:20190328T120522Z
LAST-MODIFIED:20190328T120522Z
UID:1508-1554854400-1555199999@www.hartshopping.co.uk
SUMMARY:Quite Simply Designs by Heidi Stone
DESCRIPTION:Heidi has a beautiful range of unique handcrafted jewellery with semi-precious gemstones and pearls and  also offers a re-stringing and repair service.
URL:https://www.hartshopping.co.uk/event/quite-simply-designs-heidi-stone-3-2-2-2-2-2-2-2-2-2-2-2-3-2-2-2-2-2-2-2-2/
LOCATION:Hart Shopping Centre\, Fleet Road\, Fleet\, GU51 3LA\, United Kingdom
CATEGORIES:Who's in
END:VEVENT
BEGIN:VEVENT
DTSTART;VALUE=DATE:20190403
DTEND;VALUE=DATE:20190407
DTSTAMP:20260419T204855
CREATED:20190328T120500Z
LAST-MODIFIED:20190328T120500Z
UID:1506-1554249600-1554595199@www.hartshopping.co.uk
SUMMARY:Quite Simply Designs by Heidi Stone
DESCRIPTION:Heidi has a beautiful range of unique handcrafted jewellery with semi-precious gemstones and pearls and  also offers a re-stringing and repair service.
URL:https://www.hartshopping.co.uk/event/quite-simply-designs-heidi-stone-3-2-2-2-2-2-2-2-2-2-2-2-3-2-2-2-2-2-2-2/
LOCATION:Hart Shopping Centre\, Fleet Road\, Fleet\, GU51 3LA\, United Kingdom
CATEGORIES:Who's in
END:VEVENT
BEGIN:VEVENT
DTSTART;VALUE=DATE:20190327
DTEND;VALUE=DATE:20190331
DTSTAMP:20260419T204855
CREATED:20190321T115620Z
LAST-MODIFIED:20190321T115620Z
UID:1496-1553644800-1553990399@www.hartshopping.co.uk
SUMMARY:Quite Simply Designs by Heidi Stone
DESCRIPTION:Heidi has a beautiful range of unique handcrafted jewellery with semi-precious gemstones and pearls and  also offers a re-stringing and repair service.
URL:https://www.hartshopping.co.uk/event/quite-simply-designs-heidi-stone-3-2-2-2-2-2-2-2-2-2-2-2-3-2-2-2-2-2-2/
LOCATION:Hart Shopping Centre\, Fleet Road\, Fleet\, GU51 3LA\, United Kingdom
CATEGORIES:Who's in
END:VEVENT
BEGIN:VEVENT
DTSTART;VALUE=DATE:20190320
DTEND;VALUE=DATE:20190324
DTSTAMP:20260419T204855
CREATED:20190314T120159Z
LAST-MODIFIED:20190314T120159Z
UID:1489-1553040000-1553385599@www.hartshopping.co.uk
SUMMARY:Quite Simply Designs by Heidi Stone
DESCRIPTION:Heidi has a beautiful range of unique handcrafted jewellery with semi-precious gemstones and pearls and  also offers a re-stringing and repair service.
URL:https://www.hartshopping.co.uk/event/quite-simply-designs-heidi-stone-3-2-2-2-2-2-2-2-2-2-2-2-3-2-2-2-2-2/
LOCATION:Hart Shopping Centre\, Fleet Road\, Fleet\, GU51 3LA\, United Kingdom
CATEGORIES:Who's in
END:VEVENT
BEGIN:VEVENT
DTSTART;TZID=Europe/London:20190316T100000
DTEND;TZID=Europe/London:20190316T170000
DTSTAMP:20260419T204855
CREATED:20190307T112023Z
LAST-MODIFIED:20190307T112023Z
UID:1482-1552730400-1552755600@www.hartshopping.co.uk
SUMMARY:Marie Curie Daffodil Appeal
DESCRIPTION:The Great Daffodil Appeal is Marie Curie’s biggest annual fundraising campaign. Every March\, millions of people across the UK support this fundraising event.
URL:https://www.hartshopping.co.uk/event/marie-curie-daffodil-appeal/
END:VEVENT
BEGIN:VEVENT
DTSTART;VALUE=DATE:20190313
DTEND;VALUE=DATE:20190317
DTSTAMP:20260419T204855
CREATED:20190307T111552Z
LAST-MODIFIED:20190307T111552Z
UID:1480-1552435200-1552780799@www.hartshopping.co.uk
SUMMARY:Quite Simply Designs by Heidi Stone
DESCRIPTION:Heidi has a beautiful range of unique handcrafted jewellery with semi-precious gemstones and pearls and  also offers a re-stringing and repair service.
URL:https://www.hartshopping.co.uk/event/quite-simply-designs-heidi-stone-3-2-2-2-2-2-2-2-2-2-2-2-3-2-2-2-2/
LOCATION:Hart Shopping Centre\, Fleet Road\, Fleet\, GU51 3LA\, United Kingdom
CATEGORIES:Who's in
END:VEVENT
BEGIN:VEVENT
DTSTART;TZID=Europe/London:20190307T100000
DTEND;TZID=Europe/London:20190307T170000
DTSTAMP:20260419T204855
CREATED:20180208T131448Z
LAST-MODIFIED:20190228T110023Z
UID:1044-1551952800-1551978000@www.hartshopping.co.uk
SUMMARY:Gracewell of Church Crookham
DESCRIPTION:Gracewell of Church Crookham is a brand new\, bespoke designed and built luxury care home in a pleasant residential area of Church Crookham\, and close to the historic Tweseldown racecourse and playing fields. It is part of Gracewell Healthcare\, winner of the Health Investors Award for residential care provider  of the year 2014.
URL:https://www.hartshopping.co.uk/event/gracewell-church-crookham/
END:VEVENT
BEGIN:VEVENT
DTSTART;VALUE=DATE:20190306
DTEND;VALUE=DATE:20190310
DTSTAMP:20260419T204855
CREATED:20190228T105914Z
LAST-MODIFIED:20190228T105914Z
UID:1477-1551830400-1552175999@www.hartshopping.co.uk
SUMMARY:Quite Simply Designs by Heidi Stone
DESCRIPTION:Heidi has a beautiful range of unique handcrafted jewellery with semi-precious gemstones and pearls and  also offers a re-stringing and repair service.
URL:https://www.hartshopping.co.uk/event/quite-simply-designs-heidi-stone-3-2-2-2-2-2-2-2-2-2-2-2-3-2-2-2/
LOCATION:Hart Shopping Centre\, Fleet Road\, Fleet\, GU51 3LA\, United Kingdom
CATEGORIES:Who's in
END:VEVENT
BEGIN:VEVENT
DTSTART;VALUE=DATE:20190227
DTEND;VALUE=DATE:20190303
DTSTAMP:20260419T204855
CREATED:20190221T105716Z
LAST-MODIFIED:20190221T105716Z
UID:1475-1551225600-1551571199@www.hartshopping.co.uk
SUMMARY:Quite Simply Designs by Heidi Stone
DESCRIPTION:Heidi has a beautiful range of unique handcrafted jewellery with semi-precious gemstones and pearls and  also offers a re-stringing and repair service.
URL:https://www.hartshopping.co.uk/event/quite-simply-designs-heidi-stone-3-2-2-2-2-2-2-2-2-2-2-2-3-2-2/
LOCATION:Hart Shopping Centre\, Fleet Road\, Fleet\, GU51 3LA\, United Kingdom
CATEGORIES:Who's in
END:VEVENT
BEGIN:VEVENT
DTSTART;VALUE=DATE:20190220
DTEND;VALUE=DATE:20190224
DTSTAMP:20260419T204855
CREATED:20190214T125938Z
LAST-MODIFIED:20190214T125938Z
UID:1471-1550620800-1550966399@www.hartshopping.co.uk
SUMMARY:Quite Simply Designs by Heidi Stone
DESCRIPTION:Heidi has a beautiful range of unique handcrafted jewellery with semi-precious gemstones and pearls and  also offers a re-stringing and repair service.
URL:https://www.hartshopping.co.uk/event/quite-simply-designs-heidi-stone-3-2-2-2-2-2-2-2-2-2-2-2-3-2/
LOCATION:Hart Shopping Centre\, Fleet Road\, Fleet\, GU51 3LA\, United Kingdom
CATEGORIES:Who's in
END:VEVENT
END:VCALENDAR