BEGIN:VCALENDAR
VERSION:2.0
PRODID:-//Hart Shopping Centre - ECPv6.15.20//NONSGML v1.0//EN
CALSCALE:GREGORIAN
METHOD:PUBLISH
X-WR-CALNAME:Hart Shopping Centre
X-ORIGINAL-URL:https://www.hartshopping.co.uk
X-WR-CALDESC:Events for Hart Shopping Centre
REFRESH-INTERVAL;VALUE=DURATION:PT1H
X-Robots-Tag:noindex
X-PUBLISHED-TTL:PT1H
BEGIN:VTIMEZONE
TZID:Europe/London
BEGIN:DAYLIGHT
TZOFFSETFROM:+0000
TZOFFSETTO:+0100
TZNAME:BST
DTSTART:20160327T010000
END:DAYLIGHT
BEGIN:STANDARD
TZOFFSETFROM:+0100
TZOFFSETTO:+0000
TZNAME:GMT
DTSTART:20161030T010000
END:STANDARD
BEGIN:DAYLIGHT
TZOFFSETFROM:+0000
TZOFFSETTO:+0100
TZNAME:BST
DTSTART:20170326T010000
END:DAYLIGHT
BEGIN:STANDARD
TZOFFSETFROM:+0100
TZOFFSETTO:+0000
TZNAME:GMT
DTSTART:20171029T010000
END:STANDARD
BEGIN:DAYLIGHT
TZOFFSETFROM:+0000
TZOFFSETTO:+0100
TZNAME:BST
DTSTART:20180325T010000
END:DAYLIGHT
BEGIN:STANDARD
TZOFFSETFROM:+0100
TZOFFSETTO:+0000
TZNAME:GMT
DTSTART:20181028T010000
END:STANDARD
BEGIN:DAYLIGHT
TZOFFSETFROM:+0000
TZOFFSETTO:+0100
TZNAME:BST
DTSTART:20190331T010000
END:DAYLIGHT
BEGIN:STANDARD
TZOFFSETFROM:+0100
TZOFFSETTO:+0000
TZNAME:GMT
DTSTART:20191027T010000
END:STANDARD
END:VTIMEZONE
BEGIN:VEVENT
DTSTART;TZID=Europe/London:20181006T100000
DTEND;TZID=Europe/London:20181006T170000
DTSTAMP:20260420T020039
CREATED:20180724T160553Z
LAST-MODIFIED:20180927T085214Z
UID:1262-1538820000-1538845200@www.hartshopping.co.uk
SUMMARY:Guide Dogs Charity Fundraising
DESCRIPTION:  \nPrimary logo for web and screen use
URL:https://www.hartshopping.co.uk/event/guide-dogs-information-day/
END:VEVENT
BEGIN:VEVENT
DTSTART;TZID=Europe/London:20180922T100000
DTEND;TZID=Europe/London:20180922T170000
DTSTAMP:20260420T020039
CREATED:20180913T125653Z
LAST-MODIFIED:20180913T125653Z
UID:1302-1537610400-1537635600@www.hartshopping.co.uk
SUMMARY:Fleet Jazz Club
DESCRIPTION:
URL:https://www.hartshopping.co.uk/event/fleet-jazz-club/
END:VEVENT
BEGIN:VEVENT
DTSTART;TZID=Europe/London:20180922T100000
DTEND;TZID=Europe/London:20180922T160000
DTSTAMP:20260420T020039
CREATED:20180913T125108Z
LAST-MODIFIED:20180913T125108Z
UID:1296-1537610400-1537632000@www.hartshopping.co.uk
SUMMARY:Hart Voluntary Action Volunteer Fair
DESCRIPTION:Hart Voluntary Action are hosting a Volunteer Fair with 30 information stalls available\, there will be plenty of information about a whole range of volunteering opportunities. Follow Hart Volunteer centre to find out more about the volunteering organisations who will be attending.
URL:https://www.hartshopping.co.uk/event/hart-voluntary-action-volunteer-fair/
END:VEVENT
BEGIN:VEVENT
DTSTART;TZID=Europe/London:20180628T100000
DTEND;TZID=Europe/London:20180628T143000
DTSTAMP:20260420T020039
CREATED:20180621T112516Z
LAST-MODIFIED:20180621T112516Z
UID:1238-1530180000-1530196200@www.hartshopping.co.uk
SUMMARY:Citizens Advice Hart
DESCRIPTION:Scam awareness – types of scams\, prevention & reporting.
URL:https://www.hartshopping.co.uk/event/citizens-advice-hart/
END:VEVENT
BEGIN:VEVENT
DTSTART;TZID=Europe/London:20180618T090000
DTEND;TZID=Europe/London:20180623T173000
DTSTAMP:20260420T020039
CREATED:20171123T132333Z
LAST-MODIFIED:20180614T111405Z
UID:828-1529312400-1529775000@www.hartshopping.co.uk
SUMMARY:RSPB
DESCRIPTION:The RSPB is the country’s largest nature conservation charity\, inspiring everyone to give nature a home and secure a healthy environment for wildlife.
URL:https://www.hartshopping.co.uk/event/rspb/
END:VEVENT
BEGIN:VEVENT
DTSTART;TZID=Europe/London:20180616T100000
DTEND;TZID=Europe/London:20180616T160000
DTSTAMP:20260420T020039
CREATED:20180208T132611Z
LAST-MODIFIED:20180607T103941Z
UID:1054-1529143200-1529164800@www.hartshopping.co.uk
SUMMARY:1st Crookham Beavers & Cubs Pop-up Cafe
DESCRIPTION:Support their local HQ rebuild fund by enjoying  a hot drink and a slice of cake at their pop-up cafe. All proceeds are going towards the rebuild of their Scout HQ in Basingbourne woods\, home to local scouting  for 200+ children.
URL:https://www.hartshopping.co.uk/event/1st-crookham-beavers-cubs-pop-cafe/
END:VEVENT
BEGIN:VEVENT
DTSTART;TZID=Europe/London:20180604T090000
DTEND;TZID=Europe/London:20180701T160000
DTSTAMP:20260420T020039
CREATED:20180531T133557Z
LAST-MODIFIED:20180531T133704Z
UID:1224-1528102800-1530460800@www.hartshopping.co.uk
SUMMARY:Safestyle UK
DESCRIPTION:Safestyle UK is part of the Style Group UK and is a provider of PVCu double glazed windows\, door\, French doors\, patio and sliding doors in the United Kingdom.
URL:https://www.hartshopping.co.uk/event/safestyle-uk/
CATEGORIES:Who's in
END:VEVENT
BEGIN:VEVENT
DTSTART;TZID=Europe/London:20180521T100000
DTEND;TZID=Europe/London:20180525T170000
DTSTAMP:20260420T020039
CREATED:20180517T093132Z
LAST-MODIFIED:20180517T093132Z
UID:1200-1526896800-1527267600@www.hartshopping.co.uk
SUMMARY:Hart District Council Dementia Action week
DESCRIPTION:
URL:https://www.hartshopping.co.uk/event/hart-district-council-dementia-action-week/
END:VEVENT
BEGIN:VEVENT
DTSTART;TZID=Europe/London:20180514T080000
DTEND;TZID=Europe/London:20180525T170000
DTSTAMP:20260420T020039
CREATED:20180510T110031Z
LAST-MODIFIED:20180510T110031Z
UID:1188-1526284800-1527267600@www.hartshopping.co.uk
SUMMARY:Fleet Town Council - Neighbourhood Plan Display
DESCRIPTION:
URL:https://www.hartshopping.co.uk/event/fleet-town-council-neighbourhood-plan-display/
END:VEVENT
BEGIN:VEVENT
DTSTART;VALUE=DATE:20180404
DTEND;VALUE=DATE:20180408
DTSTAMP:20260420T020039
CREATED:20180322T155333Z
LAST-MODIFIED:20180329T113607Z
UID:1138-1522800000-1523145599@www.hartshopping.co.uk
SUMMARY:Quite Simply Designs by Heidi Stone
DESCRIPTION:Heidi has a beautiful range of unique handcrafted jewellery with semi-precious gemstones and pearls and  also offers a re-stringing and repair service.
URL:https://www.hartshopping.co.uk/event/quite-simply-designs-heidi-stone-3-2-2-2-2-2-2-2-2-2-2/
LOCATION:Hart Shopping Centre\, Fleet Road\, Fleet\, GU51 3LA\, United Kingdom
CATEGORIES:Who's in
END:VEVENT
BEGIN:VEVENT
DTSTART;TZID=Europe/London:20180324T100000
DTEND;TZID=Europe/London:20180324T160000
DTSTAMP:20260420T020039
CREATED:20180315T135033Z
LAST-MODIFIED:20180315T135033Z
UID:1125-1521885600-1521907200@www.hartshopping.co.uk
SUMMARY:Autism Friendly Fleet
DESCRIPTION:
URL:https://www.hartshopping.co.uk/event/autism-friendly-fleet/
END:VEVENT
BEGIN:VEVENT
DTSTART;VALUE=DATE:20180321
DTEND;VALUE=DATE:20180325
DTSTAMP:20260420T020039
CREATED:20180322T155316Z
LAST-MODIFIED:20180322T155316Z
UID:1136-1521590400-1521935999@www.hartshopping.co.uk
SUMMARY:Quite Simply Designs by Heidi Stone
DESCRIPTION:Heidi has a beautiful range of unique handcrafted jewellery with semi-precious gemstones and pearls and  also offers a re-stringing and repair service.
URL:https://www.hartshopping.co.uk/event/quite-simply-designs-heidi-stone-3-2-2-2-2-2-2-2-2-2/
LOCATION:Hart Shopping Centre\, Fleet Road\, Fleet\, GU51 3LA\, United Kingdom
CATEGORIES:Who's in
END:VEVENT
BEGIN:VEVENT
DTSTART;VALUE=DATE:20180314
DTEND;VALUE=DATE:20180318
DTSTAMP:20260420T020039
CREATED:20180308T115101Z
LAST-MODIFIED:20180308T115101Z
UID:1109-1520985600-1521331199@www.hartshopping.co.uk
SUMMARY:Quite Simply Designs by Heidi Stone
DESCRIPTION:Heidi has a beautiful range of unique handcrafted jewellery with semi-precious gemstones and pearls and  also offers a re-stringing and repair service.
URL:https://www.hartshopping.co.uk/event/quite-simply-designs-heidi-stone-3-2-2-2-2-2-2-2-2/
LOCATION:Hart Shopping Centre\, Fleet Road\, Fleet\, GU51 3LA\, United Kingdom
CATEGORIES:Who's in
END:VEVENT
BEGIN:VEVENT
DTSTART;VALUE=DATE:20180307
DTEND;VALUE=DATE:20180311
DTSTAMP:20260420T020039
CREATED:20180301T144900Z
LAST-MODIFIED:20180301T144900Z
UID:1094-1520380800-1520726399@www.hartshopping.co.uk
SUMMARY:Quite Simply Designs by Heidi Stone
DESCRIPTION:Heidi has a beautiful range of unique handcrafted jewellery with semi-precious gemstones and pearls and  also offers a re-stringing and repair service.
URL:https://www.hartshopping.co.uk/event/quite-simply-designs-heidi-stone-3-2-2-2-2-2-2-2/
LOCATION:Hart Shopping Centre\, Fleet Road\, Fleet\, GU51 3LA\, United Kingdom
CATEGORIES:Who's in
END:VEVENT
BEGIN:VEVENT
DTSTART;TZID=Europe/London:20180303T100000
DTEND;TZID=Europe/London:20180303T170000
DTSTAMP:20260420T020039
CREATED:20180222T110133Z
LAST-MODIFIED:20180226T154354Z
UID:1079-1520071200-1520096400@www.hartshopping.co.uk
SUMMARY:Action against Hunger Static Bike Fundraiser
DESCRIPTION:Action Against Hunger\, ACF International is a global charity committed to saving the lives of malnourished children in over 40 countries. \nwww.actionagainsthunger.org.uk
URL:https://www.hartshopping.co.uk/event/action-hunger-static-bike-fundraiser/
CATEGORIES:Who's in
ATTACH;FMTTYPE=image/jpeg:https://www.hartshopping.co.uk/wp-content/uploads/2018/02/ACF.jpg
END:VEVENT
BEGIN:VEVENT
DTSTART;VALUE=DATE:20180228
DTEND;VALUE=DATE:20180304
DTSTAMP:20260420T020039
CREATED:20180222T105649Z
LAST-MODIFIED:20180222T105649Z
UID:1074-1519776000-1520121599@www.hartshopping.co.uk
SUMMARY:Quite Simply Designs by Heidi Stone
DESCRIPTION:Heidi has a beautiful range of unique handcrafted jewellery with semi-precious gemstones and pearls and  also offers a re-stringing and repair service.
URL:https://www.hartshopping.co.uk/event/quite-simply-designs-heidi-stone-3-2-2-2-2-2-2/
LOCATION:Hart Shopping Centre\, Fleet Road\, Fleet\, GU51 3LA\, United Kingdom
CATEGORIES:Who's in
END:VEVENT
BEGIN:VEVENT
DTSTART;TZID=Europe/London:20180216T080000
DTEND;TZID=Europe/London:20180217T170000
DTSTAMP:20260420T020039
CREATED:20180208T132206Z
LAST-MODIFIED:20180208T132206Z
UID:1051-1518768000-1518886800@www.hartshopping.co.uk
SUMMARY:Fleet Rotary Club - Young Photographer of the Year 2018
DESCRIPTION:
URL:https://www.hartshopping.co.uk/event/fleet-rotary-club-young-photographer-year-2018/
END:VEVENT
BEGIN:VEVENT
DTSTART;VALUE=DATE:20180214
DTEND;VALUE=DATE:20180218
DTSTAMP:20260420T020039
CREATED:20180208T131635Z
LAST-MODIFIED:20180208T131635Z
UID:1049-1518566400-1518911999@www.hartshopping.co.uk
SUMMARY:Quite Simply Designs by Heidi Stone
DESCRIPTION:Heidi has a beautiful range of unique handcrafted jewellery with semi-precious gemstones and pearls and  also offers a re-stringing and repair service.
URL:https://www.hartshopping.co.uk/event/quite-simply-designs-heidi-stone-3-2-2-2-2-2/
LOCATION:Hart Shopping Centre\, Fleet Road\, Fleet\, GU51 3LA\, United Kingdom
CATEGORIES:Who's in
END:VEVENT
BEGIN:VEVENT
DTSTART;TZID=Europe/London:20180212T080000
DTEND;TZID=Europe/London:20180224T170000
DTSTAMP:20260420T020039
CREATED:20180208T130224Z
LAST-MODIFIED:20180208T130224Z
UID:1039-1518422400-1519491600@www.hartshopping.co.uk
SUMMARY:Brackenwood Windows
DESCRIPTION:Brackenwood is the name you can rely on. They’ve been installing quality windows\, doors and conservatories since they began back in 1987 and have continued to grow as one of the leading installers in the Berkshire\, Hampshire and Surrey area. \n   
URL:https://www.hartshopping.co.uk/event/brackenwood-windows-2-2/
LOCATION:Hart Shopping Centre\, Fleet Road\, Fleet\, GU51 3LA\, United Kingdom
CATEGORIES:Who's in
END:VEVENT
BEGIN:VEVENT
DTSTART;TZID=Europe/London:20180209T100000
DTEND;TZID=Europe/London:20180210T163000
DTSTAMP:20260420T020039
CREATED:20180201T164335Z
LAST-MODIFIED:20180201T164335Z
UID:1004-1518170400-1518280200@www.hartshopping.co.uk
SUMMARY:SeeAbility Fundraising Tea Party
DESCRIPTION:
URL:https://www.hartshopping.co.uk/event/seeability-fundraising-tea-party/
END:VEVENT
BEGIN:VEVENT
DTSTART;TZID=Europe/London:20180209T080000
DTEND;TZID=Europe/London:20180210T170000
DTSTAMP:20260420T020039
CREATED:20180201T164731Z
LAST-MODIFIED:20180201T165036Z
UID:1007-1518163200-1518282000@www.hartshopping.co.uk
SUMMARY:Riverford Organic Farmers
DESCRIPTION:Riverford are a vegbox scheme based in Hampshire. They are 100% organic and deliver fresh\, seasonal vegboxes direct to their customer’s doorstops.
URL:https://www.hartshopping.co.uk/event/riverford-organic-farmers/
END:VEVENT
BEGIN:VEVENT
DTSTART;VALUE=DATE:20180207
DTEND;VALUE=DATE:20180211
DTSTAMP:20260420T020039
CREATED:20180208T131618Z
LAST-MODIFIED:20180208T131618Z
UID:1047-1517961600-1518307199@www.hartshopping.co.uk
SUMMARY:Quite Simply Designs by Heidi Stone
DESCRIPTION:Heidi has a beautiful range of unique handcrafted jewellery with semi-precious gemstones and pearls and  also offers a re-stringing and repair service.
URL:https://www.hartshopping.co.uk/event/quite-simply-designs-heidi-stone-3-2-2-2-2/
LOCATION:Hart Shopping Centre\, Fleet Road\, Fleet\, GU51 3LA\, United Kingdom
CATEGORIES:Who's in
END:VEVENT
BEGIN:VEVENT
DTSTART;TZID=Europe/London:20180205T080000
DTEND;TZID=Europe/London:20180211T160000
DTSTAMP:20260420T020039
CREATED:20180201T163937Z
LAST-MODIFIED:20180201T163937Z
UID:1000-1517817600-1518364800@www.hartshopping.co.uk
SUMMARY:IPG Paintballing
DESCRIPTION:Chose IPG Paintball for a first class paintball experience in the UK.
URL:https://www.hartshopping.co.uk/event/ipg-paintballing/
END:VEVENT
BEGIN:VEVENT
DTSTART;TZID=Europe/London:20180129T080000
DTEND;TZID=Europe/London:20180203T170000
DTSTAMP:20260420T020039
CREATED:20180125T113256Z
LAST-MODIFIED:20180125T113256Z
UID:966-1517212800-1517677200@www.hartshopping.co.uk
SUMMARY:Sekar Karnue
DESCRIPTION:Funeral plans\, gives you peace of mind\, knowing that your funeral is arranged and paid for in advance.
URL:https://www.hartshopping.co.uk/event/sekar-karnue/
END:VEVENT
BEGIN:VEVENT
DTSTART;TZID=Europe/London:20180119T100000
DTEND;TZID=Europe/London:20180119T150000
DTSTAMP:20260420T020039
CREATED:20180111T131133Z
LAST-MODIFIED:20180111T131321Z
UID:933-1516356000-1516374000@www.hartshopping.co.uk
SUMMARY:One You New Year Wellbeing Event
DESCRIPTION:  \n \nHart District Council and Hart Voluntary Action have joined forces to organise a special Wellbeing Day linked to the national ONE YOU campaign. Pop in to the Hart Shopping centre between 10am and 3pm to get tips and support to help make manageable changes and achieve goals for better health & wellbeing in 2018.
URL:https://www.hartshopping.co.uk/event/new-you-event/
END:VEVENT
BEGIN:VEVENT
DTSTART;VALUE=DATE:20180117
DTEND;VALUE=DATE:20180121
DTSTAMP:20260420T020039
CREATED:20180111T130310Z
LAST-MODIFIED:20180111T130310Z
UID:929-1516147200-1516492799@www.hartshopping.co.uk
SUMMARY:Quite Simply Designs by Heidi Stone
DESCRIPTION:Heidi has a beautiful range of unique handcrafted jewellery with semi-precious gemstones and pearls and  also offers a re-stringing and repair service.
URL:https://www.hartshopping.co.uk/event/quite-simply-designs-heidi-stone-3-2-2-2/
LOCATION:Hart Shopping Centre\, Fleet Road\, Fleet\, GU51 3LA\, United Kingdom
CATEGORIES:Who's in
END:VEVENT
BEGIN:VEVENT
DTSTART;TZID=Europe/London:20180115T080000
DTEND;TZID=Europe/London:20180127T170000
DTSTAMP:20260420T020039
CREATED:20180111T130408Z
LAST-MODIFIED:20180111T130408Z
UID:931-1516003200-1517072400@www.hartshopping.co.uk
SUMMARY:Brackenwood Windows
DESCRIPTION:Brackenwood is the name you can rely on. They’ve been installing quality windows\, doors and conservatories since they began back in 1987 and have continued to grow as one of the leading installers in the Berkshire\, Hampshire and Surrey area. \n   
URL:https://www.hartshopping.co.uk/event/brackenwood-windows-2/
LOCATION:Hart Shopping Centre\, Fleet Road\, Fleet\, GU51 3LA\, United Kingdom
CATEGORIES:Who's in
END:VEVENT
BEGIN:VEVENT
DTSTART;VALUE=DATE:20171227
DTEND;VALUE=DATE:20171231
DTSTAMP:20260420T020039
CREATED:20171214T121640Z
LAST-MODIFIED:20171214T121640Z
UID:891-1514332800-1514678399@www.hartshopping.co.uk
SUMMARY:Quite Simply Designs by Heidi Stone
DESCRIPTION:Heidi has a beautiful range of unique handcrafted jewellery with semi-precious gemstones and pearls and  also offers a re-stringing and repair service.
URL:https://www.hartshopping.co.uk/event/quite-simply-designs-heidi-stone-3-2-2/
LOCATION:Hart Shopping Centre\, Fleet Road\, Fleet\, GU51 3LA\, United Kingdom
CATEGORIES:Who's in
END:VEVENT
BEGIN:VEVENT
DTSTART;VALUE=DATE:20171218
DTEND;VALUE=DATE:20171224
DTSTAMP:20260420T020039
CREATED:20171214T121611Z
LAST-MODIFIED:20171214T121611Z
UID:889-1513555200-1514073599@www.hartshopping.co.uk
SUMMARY:Quite Simply Designs by Heidi Stone
DESCRIPTION:Heidi has a beautiful range of unique handcrafted jewellery with semi-precious gemstones and pearls and  also offers a re-stringing and repair service.
URL:https://www.hartshopping.co.uk/event/quite-simply-designs-heidi-stone-3-2/
LOCATION:Hart Shopping Centre\, Fleet Road\, Fleet\, GU51 3LA\, United Kingdom
CATEGORIES:Who's in
END:VEVENT
BEGIN:VEVENT
DTSTART;TZID=Europe/London:20171217T110000
DTEND;TZID=Europe/London:20171217T130000
DTSTAMP:20260420T020039
CREATED:20171207T115511Z
LAST-MODIFIED:20171207T115511Z
UID:882-1513508400-1513515600@www.hartshopping.co.uk
SUMMARY:North East Hants Area Schools Band
DESCRIPTION:
URL:https://www.hartshopping.co.uk/event/north-east-hants-area-schools-band/
END:VEVENT
END:VCALENDAR