BEGIN:VCALENDAR
VERSION:2.0
PRODID:-//Hart Shopping Centre - ECPv6.15.20//NONSGML v1.0//EN
CALSCALE:GREGORIAN
METHOD:PUBLISH
X-WR-CALNAME:Hart Shopping Centre
X-ORIGINAL-URL:https://www.hartshopping.co.uk
X-WR-CALDESC:Events for Hart Shopping Centre
REFRESH-INTERVAL;VALUE=DURATION:PT1H
X-Robots-Tag:noindex
X-PUBLISHED-TTL:PT1H
BEGIN:VTIMEZONE
TZID:Europe/London
BEGIN:DAYLIGHT
TZOFFSETFROM:+0000
TZOFFSETTO:+0100
TZNAME:BST
DTSTART:20160327T010000
END:DAYLIGHT
BEGIN:STANDARD
TZOFFSETFROM:+0100
TZOFFSETTO:+0000
TZNAME:GMT
DTSTART:20161030T010000
END:STANDARD
BEGIN:DAYLIGHT
TZOFFSETFROM:+0000
TZOFFSETTO:+0100
TZNAME:BST
DTSTART:20170326T010000
END:DAYLIGHT
BEGIN:STANDARD
TZOFFSETFROM:+0100
TZOFFSETTO:+0000
TZNAME:GMT
DTSTART:20171029T010000
END:STANDARD
BEGIN:DAYLIGHT
TZOFFSETFROM:+0000
TZOFFSETTO:+0100
TZNAME:BST
DTSTART:20180325T010000
END:DAYLIGHT
BEGIN:STANDARD
TZOFFSETFROM:+0100
TZOFFSETTO:+0000
TZNAME:GMT
DTSTART:20181028T010000
END:STANDARD
BEGIN:DAYLIGHT
TZOFFSETFROM:+0000
TZOFFSETTO:+0100
TZNAME:BST
DTSTART:20190331T010000
END:DAYLIGHT
BEGIN:STANDARD
TZOFFSETFROM:+0100
TZOFFSETTO:+0000
TZNAME:GMT
DTSTART:20191027T010000
END:STANDARD
END:VTIMEZONE
BEGIN:VEVENT
DTSTART;TZID=Europe/London:20180209T080000
DTEND;TZID=Europe/London:20180210T170000
DTSTAMP:20260420T052413
CREATED:20180201T164731Z
LAST-MODIFIED:20180201T165036Z
UID:1007-1518163200-1518282000@www.hartshopping.co.uk
SUMMARY:Riverford Organic Farmers
DESCRIPTION:Riverford are a vegbox scheme based in Hampshire. They are 100% organic and deliver fresh\, seasonal vegboxes direct to their customer’s doorstops.
URL:https://www.hartshopping.co.uk/event/riverford-organic-farmers/
END:VEVENT
BEGIN:VEVENT
DTSTART;VALUE=DATE:20180207
DTEND;VALUE=DATE:20180211
DTSTAMP:20260420T052413
CREATED:20180208T131618Z
LAST-MODIFIED:20180208T131618Z
UID:1047-1517961600-1518307199@www.hartshopping.co.uk
SUMMARY:Quite Simply Designs by Heidi Stone
DESCRIPTION:Heidi has a beautiful range of unique handcrafted jewellery with semi-precious gemstones and pearls and  also offers a re-stringing and repair service.
URL:https://www.hartshopping.co.uk/event/quite-simply-designs-heidi-stone-3-2-2-2-2/
LOCATION:Hart Shopping Centre\, Fleet Road\, Fleet\, GU51 3LA\, United Kingdom
CATEGORIES:Who's in
END:VEVENT
BEGIN:VEVENT
DTSTART;TZID=Europe/London:20180205T080000
DTEND;TZID=Europe/London:20180211T160000
DTSTAMP:20260420T052413
CREATED:20180201T163937Z
LAST-MODIFIED:20180201T163937Z
UID:1000-1517817600-1518364800@www.hartshopping.co.uk
SUMMARY:IPG Paintballing
DESCRIPTION:Chose IPG Paintball for a first class paintball experience in the UK.
URL:https://www.hartshopping.co.uk/event/ipg-paintballing/
END:VEVENT
BEGIN:VEVENT
DTSTART;TZID=Europe/London:20180129T080000
DTEND;TZID=Europe/London:20180203T170000
DTSTAMP:20260420T052413
CREATED:20180125T113256Z
LAST-MODIFIED:20180125T113256Z
UID:966-1517212800-1517677200@www.hartshopping.co.uk
SUMMARY:Sekar Karnue
DESCRIPTION:Funeral plans\, gives you peace of mind\, knowing that your funeral is arranged and paid for in advance.
URL:https://www.hartshopping.co.uk/event/sekar-karnue/
END:VEVENT
BEGIN:VEVENT
DTSTART;TZID=Europe/London:20180119T100000
DTEND;TZID=Europe/London:20180119T150000
DTSTAMP:20260420T052413
CREATED:20180111T131133Z
LAST-MODIFIED:20180111T131321Z
UID:933-1516356000-1516374000@www.hartshopping.co.uk
SUMMARY:One You New Year Wellbeing Event
DESCRIPTION:  \n \nHart District Council and Hart Voluntary Action have joined forces to organise a special Wellbeing Day linked to the national ONE YOU campaign. Pop in to the Hart Shopping centre between 10am and 3pm to get tips and support to help make manageable changes and achieve goals for better health & wellbeing in 2018.
URL:https://www.hartshopping.co.uk/event/new-you-event/
END:VEVENT
BEGIN:VEVENT
DTSTART;VALUE=DATE:20180117
DTEND;VALUE=DATE:20180121
DTSTAMP:20260420T052413
CREATED:20180111T130310Z
LAST-MODIFIED:20180111T130310Z
UID:929-1516147200-1516492799@www.hartshopping.co.uk
SUMMARY:Quite Simply Designs by Heidi Stone
DESCRIPTION:Heidi has a beautiful range of unique handcrafted jewellery with semi-precious gemstones and pearls and  also offers a re-stringing and repair service.
URL:https://www.hartshopping.co.uk/event/quite-simply-designs-heidi-stone-3-2-2-2/
LOCATION:Hart Shopping Centre\, Fleet Road\, Fleet\, GU51 3LA\, United Kingdom
CATEGORIES:Who's in
END:VEVENT
BEGIN:VEVENT
DTSTART;TZID=Europe/London:20180115T080000
DTEND;TZID=Europe/London:20180127T170000
DTSTAMP:20260420T052413
CREATED:20180111T130408Z
LAST-MODIFIED:20180111T130408Z
UID:931-1516003200-1517072400@www.hartshopping.co.uk
SUMMARY:Brackenwood Windows
DESCRIPTION:Brackenwood is the name you can rely on. They’ve been installing quality windows\, doors and conservatories since they began back in 1987 and have continued to grow as one of the leading installers in the Berkshire\, Hampshire and Surrey area. \n   
URL:https://www.hartshopping.co.uk/event/brackenwood-windows-2/
LOCATION:Hart Shopping Centre\, Fleet Road\, Fleet\, GU51 3LA\, United Kingdom
CATEGORIES:Who's in
END:VEVENT
BEGIN:VEVENT
DTSTART;VALUE=DATE:20171227
DTEND;VALUE=DATE:20171231
DTSTAMP:20260420T052413
CREATED:20171214T121640Z
LAST-MODIFIED:20171214T121640Z
UID:891-1514332800-1514678399@www.hartshopping.co.uk
SUMMARY:Quite Simply Designs by Heidi Stone
DESCRIPTION:Heidi has a beautiful range of unique handcrafted jewellery with semi-precious gemstones and pearls and  also offers a re-stringing and repair service.
URL:https://www.hartshopping.co.uk/event/quite-simply-designs-heidi-stone-3-2-2/
LOCATION:Hart Shopping Centre\, Fleet Road\, Fleet\, GU51 3LA\, United Kingdom
CATEGORIES:Who's in
END:VEVENT
BEGIN:VEVENT
DTSTART;VALUE=DATE:20171218
DTEND;VALUE=DATE:20171224
DTSTAMP:20260420T052413
CREATED:20171214T121611Z
LAST-MODIFIED:20171214T121611Z
UID:889-1513555200-1514073599@www.hartshopping.co.uk
SUMMARY:Quite Simply Designs by Heidi Stone
DESCRIPTION:Heidi has a beautiful range of unique handcrafted jewellery with semi-precious gemstones and pearls and  also offers a re-stringing and repair service.
URL:https://www.hartshopping.co.uk/event/quite-simply-designs-heidi-stone-3-2/
LOCATION:Hart Shopping Centre\, Fleet Road\, Fleet\, GU51 3LA\, United Kingdom
CATEGORIES:Who's in
END:VEVENT
BEGIN:VEVENT
DTSTART;TZID=Europe/London:20171217T110000
DTEND;TZID=Europe/London:20171217T130000
DTSTAMP:20260420T052413
CREATED:20171207T115511Z
LAST-MODIFIED:20171207T115511Z
UID:882-1513508400-1513515600@www.hartshopping.co.uk
SUMMARY:North East Hants Area Schools Band
DESCRIPTION:
URL:https://www.hartshopping.co.uk/event/north-east-hants-area-schools-band/
END:VEVENT
BEGIN:VEVENT
DTSTART;TZID=Europe/London:20171216T100000
DTEND;TZID=Europe/London:20171216T170000
DTSTAMP:20260420T052413
CREATED:20170927T153901Z
LAST-MODIFIED:20170927T154250Z
UID:591-1513418400-1513443600@www.hartshopping.co.uk
SUMMARY:Hart of Craft
DESCRIPTION:The Hart of Craft Artisan market is a monthly market that delivers exceptional locally produced and handcrafted items\, that coupled with a great\, buzzing atmosphere make this a dynamic community event not to be missed!\nFeaturing over 40 stalls each month\, you will find a diverse mix of gifts\, jewellery\, food and beauty products. Our stallholders are friendly and knowledgeable people who are passionate about their merchandise. \n\n 
URL:https://www.hartshopping.co.uk/event/hart-craft-december/
LOCATION:Hart Shopping Centre\, Fleet Road\, Fleet\, GU51 3LA\, United Kingdom
CATEGORIES:Markets
ATTACH;FMTTYPE=image/jpeg:https://www.hartshopping.co.uk/wp-content/uploads/2017/09/20992878_1944409719133235_6160412214992238767_n.jpg
ORGANIZER;CN="Hart Of Craft":MAILTO:hartofcraft@hotmail.com
END:VEVENT
BEGIN:VEVENT
DTSTART;VALUE=DATE:20171211
DTEND;VALUE=DATE:20171217
DTSTAMP:20260420T052413
CREATED:20171207T115359Z
LAST-MODIFIED:20171207T115359Z
UID:880-1512950400-1513468799@www.hartshopping.co.uk
SUMMARY:Quite Simply Designs by Heidi Stone
DESCRIPTION:Heidi has a beautiful range of unique handcrafted jewellery with semi-precious gemstones and pearls and  also offers a re-stringing and repair service.
URL:https://www.hartshopping.co.uk/event/quite-simply-designs-heidi-stone-3/
LOCATION:Hart Shopping Centre\, Fleet Road\, Fleet\, GU51 3LA\, United Kingdom
CATEGORIES:Who's in
END:VEVENT
BEGIN:VEVENT
DTSTART;TZID=Europe/London:20171204T080000
DTEND;TZID=Europe/London:20171224T170000
DTSTAMP:20260420T052413
CREATED:20171130T102211Z
LAST-MODIFIED:20171207T115304Z
UID:856-1512374400-1514134800@www.hartshopping.co.uk
SUMMARY:Kisses & Co
DESCRIPTION:Exquisite costume jewellery & accessories.
URL:https://www.hartshopping.co.uk/event/kisses-cio/
END:VEVENT
BEGIN:VEVENT
DTSTART;VALUE=DATE:20171204
DTEND;VALUE=DATE:20171210
DTSTAMP:20260420T052413
CREATED:20171130T101912Z
LAST-MODIFIED:20171130T101912Z
UID:854-1512345600-1512863999@www.hartshopping.co.uk
SUMMARY:Quite Simply Designs by Heidi Stone
DESCRIPTION:Heidi has a beautiful range of unique handcrafted jewellery with semi-precious gemstones and pearls and  also offers a re-stringing and repair service.
URL:https://www.hartshopping.co.uk/event/quite-simply-designs-heidi-stone-2/
LOCATION:Hart Shopping Centre\, Fleet Road\, Fleet\, GU51 3LA\, United Kingdom
CATEGORIES:Who's in
END:VEVENT
BEGIN:VEVENT
DTSTART;TZID=Europe/London:20171202T090000
DTEND;TZID=Europe/London:20171202T173000
DTSTAMP:20260420T052413
CREATED:20171130T101747Z
LAST-MODIFIED:20171207T115213Z
UID:852-1512205200-1512235800@www.hartshopping.co.uk
SUMMARY:Winter Wonderland Snowglobe
DESCRIPTION:
URL:https://www.hartshopping.co.uk/event/winter-wonderland-snowglobe/
END:VEVENT
BEGIN:VEVENT
DTSTART;TZID=Europe/London:20171202T090000
DTEND;TZID=Europe/London:20171202T173000
DTSTAMP:20260420T052413
CREATED:20171116T154511Z
LAST-MODIFIED:20171116T155036Z
UID:793-1512205200-1512235800@www.hartshopping.co.uk
SUMMARY:Small Business Saturday
DESCRIPTION:Celebrate Small Business Saturday in Fleet\, see what our lovely local shops have to offer\, and be wonderfully entertained while you browse and buy!! \n       
URL:https://www.hartshopping.co.uk/event/small-business-saturday/
LOCATION:Hart Shopping Centre\, Fleet Road\, Fleet\, GU51 3LA\, United Kingdom
CATEGORIES:Live Music,Markets,Who's in
END:VEVENT
BEGIN:VEVENT
DTSTART;VALUE=DATE:20171129
DTEND;VALUE=DATE:20171203
DTSTAMP:20260420T052413
CREATED:20171123T133515Z
LAST-MODIFIED:20171123T133515Z
UID:830-1511913600-1512259199@www.hartshopping.co.uk
SUMMARY:Quite Simply Designs by Heidi Stone
DESCRIPTION:Heidi has a beautiful range of unique handcrafted jewellery with semi-precious gemstones and pearls and  also offers a re-stringing and repair service.
URL:https://www.hartshopping.co.uk/event/quite-simply-designs-heidi-stone/
LOCATION:Hart Shopping Centre\, Fleet Road\, Fleet\, GU51 3LA\, United Kingdom
CATEGORIES:Who's in
END:VEVENT
BEGIN:VEVENT
DTSTART;TZID=Europe/London:20171127T090000
DTEND;TZID=Europe/London:20171203T173000
DTSTAMP:20260420T052413
CREATED:20171123T133621Z
LAST-MODIFIED:20171123T133621Z
UID:832-1511773200-1512322200@www.hartshopping.co.uk
SUMMARY:Candy Rose Sweets
DESCRIPTION:
URL:https://www.hartshopping.co.uk/event/candy-rose-sweets/
END:VEVENT
BEGIN:VEVENT
DTSTART;TZID=Europe/London:20171125T100000
DTEND;TZID=Europe/London:20171125T170000
DTSTAMP:20260420T052413
CREATED:20170927T153123Z
LAST-MODIFIED:20170927T154351Z
UID:576-1511604000-1511629200@www.hartshopping.co.uk
SUMMARY:Hart of Craft
DESCRIPTION:The Hart of Craft Artisan market is a monthly market that delivers exceptional locally produced and handcrafted items\, that coupled with a great\, buzzing atmosphere make this a dynamic community event not to be missed!\nFeaturing over 40 stalls each month\, you will find a diverse mix of gifts\, jewellery\, food and beauty products. Our stallholders are friendly and knowledgeable people who are passionate about their merchandise. \n\n 
URL:https://www.hartshopping.co.uk/event/hart-craft-november/
LOCATION:Hart Shopping Centre\, Fleet Road\, Fleet\, GU51 3LA\, United Kingdom
CATEGORIES:Markets
ATTACH;FMTTYPE=image/jpeg:https://www.hartshopping.co.uk/wp-content/uploads/2017/09/18813610_1894981480742726_5033118648559718860_n.jpg
ORGANIZER;CN="Hart Of Craft":MAILTO:hartofcraft@hotmail.com
END:VEVENT
BEGIN:VEVENT
DTSTART;VALUE=DATE:20171122
DTEND;VALUE=DATE:20171126
DTSTAMP:20260420T052413
CREATED:20171114T105516Z
LAST-MODIFIED:20171114T160835Z
UID:743-1511308800-1511654399@www.hartshopping.co.uk
SUMMARY:Quite Simply Designs by Heidi Stone
DESCRIPTION:Heidi has a beautiful range of unique handcrafted jewellery with semi-precious gemstones and pearls and  also offers a re-stringing and repair service.
URL:https://www.hartshopping.co.uk/event/heidi-stone-jewellery-2/
LOCATION:Hart Shopping Centre\, Fleet Road\, Fleet\, GU51 3LA\, United Kingdom
CATEGORIES:Who's in
END:VEVENT
BEGIN:VEVENT
DTSTART;TZID=Europe/London:20171120T090000
DTEND;TZID=Europe/London:20171126T160000
DTSTAMP:20260420T052413
CREATED:20171116T160442Z
LAST-MODIFIED:20171117T121038Z
UID:807-1511168400-1511712000@www.hartshopping.co.uk
SUMMARY:Hart Phonebox
DESCRIPTION:Hart Phonebox deals in mobile phones\, laptops\, accessories and repairs.
URL:https://www.hartshopping.co.uk/event/hart-phonebox/
LOCATION:Hart Shopping Centre\, Fleet Road\, Fleet\, GU51 3LA\, United Kingdom
END:VEVENT
BEGIN:VEVENT
DTSTART;TZID=Europe/London:20171120T080000
DTEND;TZID=Europe/London:20171202T170000
DTSTAMP:20260420T052413
CREATED:20171116T144059Z
LAST-MODIFIED:20171117T120933Z
UID:784-1511164800-1512234000@www.hartshopping.co.uk
SUMMARY:Brackenwood Windows
DESCRIPTION:Brackenwood is the name you can rely on. They’ve been installing quality windows\, doors and conservatories since they began back in 1987 and have continued to grow as one of the leading installers in the Berkshire\, Hampshire and Surrey area. \n   
URL:https://www.hartshopping.co.uk/event/brackenwood-windows/
LOCATION:Hart Shopping Centre\, Fleet Road\, Fleet\, GU51 3LA\, United Kingdom
CATEGORIES:Who's in
END:VEVENT
BEGIN:VEVENT
DTSTART;TZID=Europe/London:20171118T100000
DTEND;TZID=Europe/London:20171119T160000
DTSTAMP:20260420T052413
CREATED:20171116T153640Z
LAST-MODIFIED:20171117T120904Z
UID:788-1510999200-1511107200@www.hartshopping.co.uk
SUMMARY:Fleet Art Society Exhibition
DESCRIPTION:Fleet Art Society were formed approximately 50 years ago and have grown to a current membership of around 200. They have a mixture of abilities ranging from experienced artists to those have only just embarked on the world of art. \nThe Society hangs paintings in the Outpatients Department of Fleet Hospital\, 10% of all sales at the Hospital and at the Art Exhibition is donated to Fleet Hospital.
URL:https://www.hartshopping.co.uk/event/fleet-art-society-exhibition/
LOCATION:Hart Shopping Centre\, Fleet Road\, Fleet\, GU51 3LA\, United Kingdom
END:VEVENT
BEGIN:VEVENT
DTSTART;VALUE=DATE:20171115
DTEND;VALUE=DATE:20171119
DTSTAMP:20260420T052413
CREATED:20171114T105113Z
LAST-MODIFIED:20171114T161016Z
UID:741-1510704000-1511049599@www.hartshopping.co.uk
SUMMARY:Quite Simply Designs by Heidi Stone
DESCRIPTION:Heidi has a beautiful range of unique handcrafted jewellery with semi-precious gemstones and pearls and  also offers a re-stringing and repair service.
URL:https://www.hartshopping.co.uk/event/heidi-stone-jewellery/
LOCATION:Hart Shopping Centre\, Fleet Road\, Fleet\, GU51 3LA\, United Kingdom
CATEGORIES:Who's in
END:VEVENT
BEGIN:VEVENT
DTSTART;TZID=Europe/London:20171028T100000
DTEND;TZID=Europe/London:20171028T170000
DTSTAMP:20260420T052413
CREATED:20170927T153732Z
LAST-MODIFIED:20170927T154444Z
UID:588-1509184800-1509210000@www.hartshopping.co.uk
SUMMARY:Hart of Craft
DESCRIPTION:The Hart of Craft Artisan market is a monthly market that delivers exceptional locally produced and handcrafted items\, that coupled with a great\, buzzing atmosphere make this a dynamic community event not to be missed!\nFeaturing over 40 stalls each month\, you will find a diverse mix of gifts\, jewellery\, food and beauty products. Our stallholders are friendly and knowledgeable people who are passionate about their merchandise. \n\n 
URL:https://www.hartshopping.co.uk/event/hart-craft-october/
LOCATION:Hart Shopping Centre\, Fleet Road\, Fleet\, GU51 3LA\, United Kingdom
CATEGORIES:Markets
ATTACH;FMTTYPE=image/jpeg:https://www.hartshopping.co.uk/wp-content/uploads/2017/09/18664347_1894272617480279_2475126142470940589_n.jpg
ORGANIZER;CN="Hart Of Craft":MAILTO:hartofcraft@hotmail.com
END:VEVENT
BEGIN:VEVENT
DTSTART;TZID=Europe/London:20171028T080000
DTEND;TZID=Europe/London:20171028T150000
DTSTAMP:20260420T052413
CREATED:20170927T170511Z
LAST-MODIFIED:20171023T085151Z
UID:635-1509177600-1509202800@www.hartshopping.co.uk
SUMMARY:Fleet Weekly Market
DESCRIPTION:This busy\,  friendly and well attended little gem is held every week in Gurkha Square just in front of the popular Harlington Center and Library\, with plenty of parking in surrounding car parks.\nWe have lots on offer from fresh seasonal fruit and veg to the truly exotic and unusual and are open from 8am till 3pm and always seek new traders to come and join our market community. \n  \n 
URL:https://www.hartshopping.co.uk/event/fleet-weekly-market-4/
LOCATION:Gurkha Square\, 236 Fleet Road\, Fleet\, GU51 4BX\, United Kingdom
CATEGORIES:Markets
ATTACH;FMTTYPE=image/jpeg:https://www.hartshopping.co.uk/wp-content/uploads/2017/09/Fleet-Market.jpg
ORGANIZER;CN="Fleet Saturday Market":MAILTO:binki2211@live.co.uk
END:VEVENT
BEGIN:VEVENT
DTSTART;TZID=Europe/London:20171021T080000
DTEND;TZID=Europe/London:20171021T150000
DTSTAMP:20260420T052413
CREATED:20170927T170422Z
LAST-MODIFIED:20170927T170422Z
UID:633-1508572800-1508598000@www.hartshopping.co.uk
SUMMARY:Fleet Weekly Market
DESCRIPTION:This busy\,  friendly and well attended little gem is held every week in Gurkha Square just in front of the popular Harlington Center and Library\, with plenty of parking in surrounding car parks.  We have lots on offer from fresh seasonal fruit and veg to the truly exotic and unusual and are open from 8am till 3pm and always seek new traders to come and join our market community.\nWe also have the wonderful McCarthy’s Artisan Bakeries bringing you their delicious bread and pastries. \nPolly’s 5* award winning mobile caterer providing mouth-watering meals and snacks to sit and enjoy or take with you whilst you browse to see what else is on offer. \nOlives\, cheeses\, cured meats plus free range eggs are also here to tempt you\, plus our newest trader the award-winning Furney Copse Farm providing you with a huge selection of scrumptious sausages plus tasty joints for those Sunday roasts – Perfect! \nWhy not treat the special person in your life with one of our florist’s colourful bouquets or just need a splash of colour in your garden? Not a problem! We have that covered. \nFeed the Birds? Another large local stockist here with everything from seed to table. \n‘Biltong not Jerky’ is also another regular trader supplying you with traditionally made biltong\, droewors\, chilli bites and boerewors\, simply delicious! \n 
URL:https://www.hartshopping.co.uk/event/fleet-weekly-market-3/
LOCATION:Gurkha Square\, 236 Fleet Road\, Fleet\, GU51 4BX\, United Kingdom
CATEGORIES:Markets
ATTACH;FMTTYPE=image/jpeg:https://www.hartshopping.co.uk/wp-content/uploads/2017/09/Fleet-Market.jpg
ORGANIZER;CN="Fleet Saturday Market":MAILTO:binki2211@live.co.uk
END:VEVENT
BEGIN:VEVENT
DTSTART;TZID=Europe/London:20171014T080000
DTEND;TZID=Europe/London:20171014T150000
DTSTAMP:20260420T052413
CREATED:20170927T170348Z
LAST-MODIFIED:20170927T170348Z
UID:631-1507968000-1507993200@www.hartshopping.co.uk
SUMMARY:Fleet Weekly Market
DESCRIPTION:This busy\,  friendly and well attended little gem is held every week in Gurkha Square just in front of the popular Harlington Center and Library\, with plenty of parking in surrounding car parks.  We have lots on offer from fresh seasonal fruit and veg to the truly exotic and unusual and are open from 8am till 3pm and always seek new traders to come and join our market community.\nWe also have the wonderful McCarthy’s Artisan Bakeries bringing you their delicious bread and pastries. \nPolly’s 5* award winning mobile caterer providing mouth-watering meals and snacks to sit and enjoy or take with you whilst you browse to see what else is on offer. \nOlives\, cheeses\, cured meats plus free range eggs are also here to tempt you\, plus our newest trader the award-winning Furney Copse Farm providing you with a huge selection of scrumptious sausages plus tasty joints for those Sunday roasts – Perfect! \nWhy not treat the special person in your life with one of our florist’s colourful bouquets or just need a splash of colour in your garden? Not a problem! We have that covered. \nFeed the Birds? Another large local stockist here with everything from seed to table. \n‘Biltong not Jerky’ is also another regular trader supplying you with traditionally made biltong\, droewors\, chilli bites and boerewors\, simply delicious! \n 
URL:https://www.hartshopping.co.uk/event/fleet-weekly-market-2/
LOCATION:Gurkha Square\, 236 Fleet Road\, Fleet\, GU51 4BX\, United Kingdom
CATEGORIES:Markets
ATTACH;FMTTYPE=image/jpeg:https://www.hartshopping.co.uk/wp-content/uploads/2017/09/Fleet-Market.jpg
ORGANIZER;CN="Fleet Saturday Market":MAILTO:binki2211@live.co.uk
END:VEVENT
BEGIN:VEVENT
DTSTART;TZID=Europe/London:20171007T080000
DTEND;TZID=Europe/London:20171007T150000
DTSTAMP:20260420T052413
CREATED:20170927T165012Z
LAST-MODIFIED:20170927T165346Z
UID:613-1507363200-1507388400@www.hartshopping.co.uk
SUMMARY:Fleet Weekly Market
DESCRIPTION:This busy\,  friendly and well attended little gem is held every week in Gurkha Square just in front of the popular Harlington Center and Library\, with plenty of parking in surrounding car parks.  We have lots on offer from fresh seasonal fruit and veg to the truly exotic and unusual and are open from 8am till 3pm and always seek new traders to come and join our market community.\nWe also have the wonderful McCarthy’s Artisan Bakeries bringing you their delicious bread and pastries. \nPolly’s 5* award winning mobile caterer providing mouth-watering meals and snacks to sit and enjoy or take with you whilst you browse to see what else is on offer. \nOlives\, cheeses\, cured meats plus free range eggs are also here to tempt you\, plus our newest trader the award-winning Furney Copse Farm providing you with a huge selection of scrumptious sausages plus tasty joints for those Sunday roasts – Perfect! \nWhy not treat the special person in your life with one of our florist’s colourful bouquets or just need a splash of colour in your garden? Not a problem! We have that covered. \nFeed the Birds? Another large local stockist here with everything from seed to table. \n‘Biltong not Jerky’ is also another regular trader supplying you with traditionally made biltong\, droewors\, chilli bites and boerewors\, simply delicious! \n 
URL:https://www.hartshopping.co.uk/event/fleet-weekly-market/
LOCATION:Gurkha Square\, 236 Fleet Road\, Fleet\, GU51 4BX\, United Kingdom
CATEGORIES:Markets
ATTACH;FMTTYPE=image/jpeg:https://www.hartshopping.co.uk/wp-content/uploads/2017/09/Fleet-Market.jpg
ORGANIZER;CN="Fleet Saturday Market":MAILTO:binki2211@live.co.uk
END:VEVENT
BEGIN:VEVENT
DTSTART;TZID=Europe/London:20170930T210000
DTEND;TZID=Europe/London:20170930T233000
DTSTAMP:20260420T052413
CREATED:20170927T163140Z
LAST-MODIFIED:20170927T163140Z
UID:604-1506805200-1506814200@www.hartshopping.co.uk
SUMMARY:Funk Lab at The Faulkners Arms
DESCRIPTION:Funk Lab are a collective of 6 talented and passionate musicians that bring something fresh and exciting to the local music scene.\nBased on the Surrey\, Hampshire\, Berkshire border\, they perform a wide range of classic and timeless soul\, jazz\, funk and classic dance tracks in a way that sets them apart from other bands.
URL:https://www.hartshopping.co.uk/event/funk-lab-faulkners-arms/
LOCATION:The Faulkeners Arms\, Falkners Close\, Fleet\, GU51 2XF\, United Kingdom
CATEGORIES:Live Music
ATTACH;FMTTYPE=image/jpeg:https://www.hartshopping.co.uk/wp-content/uploads/2017/09/FunkLab.jpg
END:VEVENT
END:VCALENDAR