BEGIN:VCALENDAR
VERSION:2.0
PRODID:-//Hart Shopping Centre - ECPv6.15.20//NONSGML v1.0//EN
CALSCALE:GREGORIAN
METHOD:PUBLISH
X-WR-CALNAME:Hart Shopping Centre
X-ORIGINAL-URL:https://www.hartshopping.co.uk
X-WR-CALDESC:Events for Hart Shopping Centre
REFRESH-INTERVAL;VALUE=DURATION:PT1H
X-Robots-Tag:noindex
X-PUBLISHED-TTL:PT1H
BEGIN:VTIMEZONE
TZID:Europe/London
BEGIN:DAYLIGHT
TZOFFSETFROM:+0000
TZOFFSETTO:+0100
TZNAME:BST
DTSTART:20180325T010000
END:DAYLIGHT
BEGIN:STANDARD
TZOFFSETFROM:+0100
TZOFFSETTO:+0000
TZNAME:GMT
DTSTART:20181028T010000
END:STANDARD
BEGIN:DAYLIGHT
TZOFFSETFROM:+0000
TZOFFSETTO:+0100
TZNAME:BST
DTSTART:20190331T010000
END:DAYLIGHT
BEGIN:STANDARD
TZOFFSETFROM:+0100
TZOFFSETTO:+0000
TZNAME:GMT
DTSTART:20191027T010000
END:STANDARD
BEGIN:DAYLIGHT
TZOFFSETFROM:+0000
TZOFFSETTO:+0100
TZNAME:BST
DTSTART:20200329T010000
END:DAYLIGHT
BEGIN:STANDARD
TZOFFSETFROM:+0100
TZOFFSETTO:+0000
TZNAME:GMT
DTSTART:20201025T010000
END:STANDARD
BEGIN:DAYLIGHT
TZOFFSETFROM:+0000
TZOFFSETTO:+0100
TZNAME:BST
DTSTART:20210328T010000
END:DAYLIGHT
BEGIN:STANDARD
TZOFFSETFROM:+0100
TZOFFSETTO:+0000
TZNAME:GMT
DTSTART:20211031T010000
END:STANDARD
END:VTIMEZONE
BEGIN:VEVENT
DTSTART;TZID=Europe/London:20191216T090000
DTEND;TZID=Europe/London:20191221T173000
DTSTAMP:20260419T133911
CREATED:20191212T101623Z
LAST-MODIFIED:20191212T101623Z
UID:1901-1576486800-1576949400@www.hartshopping.co.uk
SUMMARY:Asvanna Fairtrade
DESCRIPTION:Fairtrade gifts for all the family. useful\, unique & unusual.
URL:https://www.hartshopping.co.uk/event/asvanna-fairtrade-2/
CATEGORIES:Who's in
END:VEVENT
BEGIN:VEVENT
DTSTART;VALUE=DATE:20191216
DTEND;VALUE=DATE:20191225
DTSTAMP:20260419T133911
CREATED:20191212T101649Z
LAST-MODIFIED:20191212T101649Z
UID:1903-1576454400-1577231999@www.hartshopping.co.uk
SUMMARY:Quite Simply Designs by Heidi Stone
DESCRIPTION:Heidi has a beautiful range of unique handcrafted jewellery with semi-precious gemstones and pearls and  also offers a re-stringing and repair service.
URL:https://www.hartshopping.co.uk/event/quite-simply-designs-heidi-stone-3-2-2-2-2-2-2-2-2-2-2-2-3-2-2-2-2-2-2-2-2-2-2-2-2-2-2-2-2-2-2-2-4-2-2-2-2-2-2-2-2-2-2-2-2-2-2-2-2-2/
LOCATION:Hart Shopping Centre\, Fleet Road\, Fleet\, GU51 3LA\, United Kingdom
CATEGORIES:Who's in
END:VEVENT
BEGIN:VEVENT
DTSTART;TZID=Europe/London:20191213T110000
DTEND;TZID=Europe/London:20191213T130000
DTSTAMP:20260419T133911
CREATED:20181213T115058Z
LAST-MODIFIED:20191205T131607Z
UID:1394-1576234800-1576242000@www.hartshopping.co.uk
SUMMARY:Operation Stronghold
DESCRIPTION:The Safer North Hampshire and Police teams are in to provide advice on crime prevention.
URL:https://www.hartshopping.co.uk/event/operation-stronghold/
END:VEVENT
BEGIN:VEVENT
DTSTART;TZID=Europe/London:20191209T090000
DTEND;TZID=Europe/London:20191213T173000
DTSTAMP:20260419T133911
CREATED:20171130T102449Z
LAST-MODIFIED:20191205T131534Z
UID:860-1575882000-1576258200@www.hartshopping.co.uk
SUMMARY:Asvanna Fairtrade
DESCRIPTION:Fairtrade gifts for all the family. useful\, unique & unusual.
URL:https://www.hartshopping.co.uk/event/asvanna-fairtrade/
CATEGORIES:Who's in
END:VEVENT
BEGIN:VEVENT
DTSTART;VALUE=DATE:20191202
DTEND;VALUE=DATE:20191208
DTSTAMP:20260419T133911
CREATED:20191128T142254Z
LAST-MODIFIED:20191128T142254Z
UID:1890-1575244800-1575763199@www.hartshopping.co.uk
SUMMARY:Quite Simply Designs by Heidi Stone
DESCRIPTION:Heidi has a beautiful range of unique handcrafted jewellery with semi-precious gemstones and pearls and  also offers a re-stringing and repair service.
URL:https://www.hartshopping.co.uk/event/quite-simply-designs-heidi-stone-3-2-2-2-2-2-2-2-2-2-2-2-3-2-2-2-2-2-2-2-2-2-2-2-2-2-2-2-2-2-2-2-4-2-2-2-2-2-2-2-2-2-2-2-2-2-2-2-2/
LOCATION:Hart Shopping Centre\, Fleet Road\, Fleet\, GU51 3LA\, United Kingdom
CATEGORIES:Who's in
END:VEVENT
BEGIN:VEVENT
DTSTART;TZID=Europe/London:20191127T140000
DTEND;TZID=Europe/London:20191127T210000
DTSTAMP:20260419T133911
CREATED:20191024T112143Z
LAST-MODIFIED:20191024T112143Z
UID:1833-1574863200-1574888400@www.hartshopping.co.uk
SUMMARY:Fleet Christmas Festival & Lights Switch-on!!!!
DESCRIPTION:
URL:https://www.hartshopping.co.uk/event/fleet-christmas-festival-lights-switch-on/
END:VEVENT
BEGIN:VEVENT
DTSTART;VALUE=DATE:20191127
DTEND;VALUE=DATE:20191201
DTSTAMP:20260419T133911
CREATED:20191121T095916Z
LAST-MODIFIED:20191121T095916Z
UID:1875-1574812800-1575158399@www.hartshopping.co.uk
SUMMARY:Quite Simply Designs by Heidi Stone
DESCRIPTION:Heidi has a beautiful range of unique handcrafted jewellery with semi-precious gemstones and pearls and  also offers a re-stringing and repair service.
URL:https://www.hartshopping.co.uk/event/quite-simply-designs-heidi-stone-3-2-2-2-2-2-2-2-2-2-2-2-3-2-2-2-2-2-2-2-2-2-2-2-2-2-2-2-2-2-2-2-4-2-2-2-2-2-2-2-2-2-2-2-2-2-2-2/
LOCATION:Hart Shopping Centre\, Fleet Road\, Fleet\, GU51 3LA\, United Kingdom
CATEGORIES:Who's in
END:VEVENT
BEGIN:VEVENT
DTSTART;TZID=Europe/London:20191123T100000
DTEND;TZID=Europe/London:20191123T170000
DTSTAMP:20260419T133911
CREATED:20191114T161304Z
LAST-MODIFIED:20191114T161304Z
UID:1862-1574503200-1574528400@www.hartshopping.co.uk
SUMMARY:Gene Ashe Photography
DESCRIPTION:Freelance photographer for portraits\, weddings\, family photoshoots and headshots. Gene Ashe local photographer for all your photography requirements.
URL:https://www.hartshopping.co.uk/event/gene-ashe-photography/
END:VEVENT
BEGIN:VEVENT
DTSTART;VALUE=DATE:20191120
DTEND;VALUE=DATE:20191124
DTSTAMP:20260419T133911
CREATED:20191114T160951Z
LAST-MODIFIED:20191114T160951Z
UID:1860-1574208000-1574553599@www.hartshopping.co.uk
SUMMARY:Quite Simply Designs by Heidi Stone
DESCRIPTION:Heidi has a beautiful range of unique handcrafted jewellery with semi-precious gemstones and pearls and  also offers a re-stringing and repair service.
URL:https://www.hartshopping.co.uk/event/quite-simply-designs-heidi-stone-3-2-2-2-2-2-2-2-2-2-2-2-3-2-2-2-2-2-2-2-2-2-2-2-2-2-2-2-2-2-2-2-4-2-2-2-2-2-2-2-2-2-2-2-2-2-2/
LOCATION:Hart Shopping Centre\, Fleet Road\, Fleet\, GU51 3LA\, United Kingdom
CATEGORIES:Who's in
END:VEVENT
BEGIN:VEVENT
DTSTART;TZID=Europe/London:20191116T110000
DTEND;TZID=Europe/London:20191116T130000
DTSTAMP:20260419T133911
CREATED:20190711T093806Z
LAST-MODIFIED:20191107T131118Z
UID:1681-1573902000-1573909200@www.hartshopping.co.uk
SUMMARY:Fleet Neighbourhood Policing
DESCRIPTION:Beat Surgery 11am – 1pm \n 
URL:https://www.hartshopping.co.uk/event/fleet-neighbourhood-policing/
END:VEVENT
BEGIN:VEVENT
DTSTART;VALUE=DATE:20191113
DTEND;VALUE=DATE:20191117
DTSTAMP:20260419T133911
CREATED:20191107T130634Z
LAST-MODIFIED:20191107T130634Z
UID:1851-1573603200-1573948799@www.hartshopping.co.uk
SUMMARY:Quite Simply Designs by Heidi Stone
DESCRIPTION:Heidi has a beautiful range of unique handcrafted jewellery with semi-precious gemstones and pearls and  also offers a re-stringing and repair service.
URL:https://www.hartshopping.co.uk/event/quite-simply-designs-heidi-stone-3-2-2-2-2-2-2-2-2-2-2-2-3-2-2-2-2-2-2-2-2-2-2-2-2-2-2-2-2-2-2-2-4-2-2-2-2-2-2-2-2-2-2-2-2-2/
LOCATION:Hart Shopping Centre\, Fleet Road\, Fleet\, GU51 3LA\, United Kingdom
CATEGORIES:Who's in
END:VEVENT
BEGIN:VEVENT
DTSTART;TZID=Europe/London:20191112T090000
DTEND;TZID=Europe/London:20191116T170000
DTSTAMP:20260419T133911
CREATED:20191107T131030Z
LAST-MODIFIED:20191107T131030Z
UID:1853-1573549200-1573923600@www.hartshopping.co.uk
SUMMARY:Michael Usher Mortgage Services
DESCRIPTION:Michael Usher is an expert mortgage advisory company with offices in Frimley and Basingstoke and have mobile advisors\, who are able to visit you at a convenient time. Extensive market knowledge\, coupled with nearly 30 years experience enables them to find you highly competitive mortgage options.
URL:https://www.hartshopping.co.uk/event/michael-usher-mortgage-services/
END:VEVENT
BEGIN:VEVENT
DTSTART;TZID=Europe/London:20191108T100000
DTEND;TZID=Europe/London:20191109T163000
DTSTAMP:20260419T133911
CREATED:20180301T144942Z
LAST-MODIFIED:20191031T121649Z
UID:1096-1573207200-1573317000@www.hartshopping.co.uk
SUMMARY:SeeAbility Fundraising Tea Party
DESCRIPTION:
URL:https://www.hartshopping.co.uk/event/seeability-fundraising-tea-party-2/
END:VEVENT
BEGIN:VEVENT
DTSTART;TZID=Europe/London:20191107T090000
DTEND;TZID=Europe/London:20191109T170000
DTSTAMP:20260419T133911
CREATED:20191031T121625Z
LAST-MODIFIED:20191031T121625Z
UID:1846-1573117200-1573318800@www.hartshopping.co.uk
SUMMARY:Royal British Legion - POPPY APPEAL
DESCRIPTION:The Royal British Legion is a UK charity providing lifelong support for the Royal Navy\, British Army\, Royal Air Force\, Reservists\, Veterans and their families. The stand is to promote membership and the work of the Fleet\, Crookham & District branch of the Royal British Legion.
URL:https://www.hartshopping.co.uk/event/royal-british-legion-2-2/
END:VEVENT
BEGIN:VEVENT
DTSTART;VALUE=DATE:20191106
DTEND;VALUE=DATE:20191110
DTSTAMP:20260419T133911
CREATED:20191031T121555Z
LAST-MODIFIED:20191031T121555Z
UID:1844-1572998400-1573343999@www.hartshopping.co.uk
SUMMARY:Quite Simply Designs by Heidi Stone
DESCRIPTION:Heidi has a beautiful range of unique handcrafted jewellery with semi-precious gemstones and pearls and  also offers a re-stringing and repair service.
URL:https://www.hartshopping.co.uk/event/quite-simply-designs-heidi-stone-3-2-2-2-2-2-2-2-2-2-2-2-3-2-2-2-2-2-2-2-2-2-2-2-2-2-2-2-2-2-2-2-4-2-2-2-2-2-2-2-2-2-2-2-2/
LOCATION:Hart Shopping Centre\, Fleet Road\, Fleet\, GU51 3LA\, United Kingdom
CATEGORIES:Who's in
END:VEVENT
BEGIN:VEVENT
DTSTART;TZID=Europe/London:20191102T100000
DTEND;TZID=Europe/London:20191102T170000
DTSTAMP:20260419T133911
CREATED:20191024T114851Z
LAST-MODIFIED:20191024T114851Z
UID:1840-1572688800-1572714000@www.hartshopping.co.uk
SUMMARY:Explore Learning
DESCRIPTION:Maths and English Tuition trusted by parents and loved by kids.
URL:https://www.hartshopping.co.uk/event/explore-learning-2/
END:VEVENT
BEGIN:VEVENT
DTSTART;TZID=Europe/London:20191102T090000
DTEND;TZID=Europe/London:20191103T170000
DTSTAMP:20260419T133911
CREATED:20181101T142603Z
LAST-MODIFIED:20191024T114936Z
UID:1352-1572685200-1572800400@www.hartshopping.co.uk
SUMMARY:Royal British Legion - POPPY APPEAL
DESCRIPTION:The Royal British Legion is a UK charity providing lifelong support for the Royal Navy\, British Army\, Royal Air Force\, Reservists\, Veterans and their families. The stand is to promote membership and the work of the Fleet\, Crookham & District branch of the Royal British Legion.
URL:https://www.hartshopping.co.uk/event/royal-british-legion-2/
END:VEVENT
BEGIN:VEVENT
DTSTART;VALUE=DATE:20191030
DTEND;VALUE=DATE:20191103
DTSTAMP:20260419T133911
CREATED:20191024T114717Z
LAST-MODIFIED:20191024T114717Z
UID:1838-1572393600-1572739199@www.hartshopping.co.uk
SUMMARY:Quite Simply Designs by Heidi Stone
DESCRIPTION:Heidi has a beautiful range of unique handcrafted jewellery with semi-precious gemstones and pearls and  also offers a re-stringing and repair service.
URL:https://www.hartshopping.co.uk/event/quite-simply-designs-heidi-stone-3-2-2-2-2-2-2-2-2-2-2-2-3-2-2-2-2-2-2-2-2-2-2-2-2-2-2-2-2-2-2-2-4-2-2-2-2-2-2-2-2-2-2-2/
LOCATION:Hart Shopping Centre\, Fleet Road\, Fleet\, GU51 3LA\, United Kingdom
CATEGORIES:Who's in
END:VEVENT
BEGIN:VEVENT
DTSTART;TZID=Europe/London:20191028T100000
DTEND;TZID=Europe/London:20191028T170000
DTSTAMP:20260419T133911
CREATED:20180208T130924Z
LAST-MODIFIED:20191024T114829Z
UID:1041-1572256800-1572282000@www.hartshopping.co.uk
SUMMARY:Explore Learning
DESCRIPTION:Maths and English Tuition trusted by parents and loved by kids.
URL:https://www.hartshopping.co.uk/event/explore-learning/
END:VEVENT
BEGIN:VEVENT
DTSTART;VALUE=DATE:20191023
DTEND;VALUE=DATE:20191027
DTSTAMP:20260419T133911
CREATED:20191003T133451Z
LAST-MODIFIED:20191022T131105Z
UID:1805-1571788800-1572134399@www.hartshopping.co.uk
SUMMARY:Quite Simply Designs by Heidi Stone
DESCRIPTION:Heidi has a beautiful range of unique handcrafted jewellery with semi-precious gemstones and pearls and  also offers a re-stringing and repair service.
URL:https://www.hartshopping.co.uk/event/quite-simply-designs-heidi-stone-3-2-2-2-2-2-2-2-2-2-2-2-3-2-2-2-2-2-2-2-2-2-2-2-2-2-2-2-2-2-2-2-4-2-2-2-2-2-2-2-2-2-2/
LOCATION:Hart Shopping Centre\, Fleet Road\, Fleet\, GU51 3LA\, United Kingdom
CATEGORIES:Who's in
END:VEVENT
BEGIN:VEVENT
DTSTART;TZID=Europe/London:20191019T100000
DTEND;TZID=Europe/London:20191020T160000
DTSTAMP:20260419T133911
CREATED:20191010T124741Z
LAST-MODIFIED:20191010T124833Z
UID:1817-1571479200-1571587200@www.hartshopping.co.uk
SUMMARY:Abstract Art Pop-Up Show
DESCRIPTION:
URL:https://www.hartshopping.co.uk/event/abstract-art-pop-up-show/
END:VEVENT
BEGIN:VEVENT
DTSTART;TZID=Europe/London:20191015T080000
DTEND;TZID=Europe/London:20200105T170000
DTSTAMP:20260419T133911
CREATED:20171116T135006Z
LAST-MODIFIED:20191010T123745Z
UID:774-1571126400-1578243600@www.hartshopping.co.uk
SUMMARY:Calendar Club
DESCRIPTION:With 4\,000+ products available online and in-store\, Calendar Club UK offers a massive range of useful yet beautiful products to suit all tastes. Their 2018 wall calendars\, desk calendars\, diaries\, planners\, annuals and notebooks are in stock now. \n \n 
URL:https://www.hartshopping.co.uk/event/calendar-club/
LOCATION:Hart Shopping Centre\, Fleet Road\, Fleet\, GU51 3LA\, United Kingdom
CATEGORIES:Who's in
END:VEVENT
BEGIN:VEVENT
DTSTART;TZID=Europe/London:20191005T100000
DTEND;TZID=Europe/London:20191005T170000
DTSTAMP:20260419T133911
CREATED:20180524T105225Z
LAST-MODIFIED:20190926T120736Z
UID:1211-1570269600-1570294800@www.hartshopping.co.uk
SUMMARY:Hart Voluntary Action Volunteer Fair
DESCRIPTION:
URL:https://www.hartshopping.co.uk/event/hart-voluntary-action-get-involved-volunteer-week/
END:VEVENT
BEGIN:VEVENT
DTSTART;VALUE=DATE:20191002
DTEND;VALUE=DATE:20191006
DTSTAMP:20260419T133911
CREATED:20190926T120609Z
LAST-MODIFIED:20190926T120609Z
UID:1796-1569974400-1570319999@www.hartshopping.co.uk
SUMMARY:Quite Simply Designs by Heidi Stone
DESCRIPTION:Heidi has a beautiful range of unique handcrafted jewellery with semi-precious gemstones and pearls and  also offers a re-stringing and repair service.
URL:https://www.hartshopping.co.uk/event/quite-simply-designs-heidi-stone-3-2-2-2-2-2-2-2-2-2-2-2-3-2-2-2-2-2-2-2-2-2-2-2-2-2-2-2-2-2-2-2-4-2-2-2-2-2-2-2-2-2/
LOCATION:Hart Shopping Centre\, Fleet Road\, Fleet\, GU51 3LA\, United Kingdom
CATEGORIES:Who's in
END:VEVENT
BEGIN:VEVENT
DTSTART;TZID=Europe/London:20190930T080000
DTEND;TZID=Europe/London:20191005T170000
DTSTAMP:20260419T133911
CREATED:20180308T115136Z
LAST-MODIFIED:20190926T120635Z
UID:1111-1569830400-1570294800@www.hartshopping.co.uk
SUMMARY:Brackenwood Windows
DESCRIPTION:Brackenwood is the name you can rely on. They’ve been installing quality windows\, doors and conservatories since they began back in 1987 and have continued to grow as one of the leading installers in the Berkshire\, Hampshire and Surrey area. \n   
URL:https://www.hartshopping.co.uk/event/brackenwood-windows-2-2-2/
LOCATION:Hart Shopping Centre\, Fleet Road\, Fleet\, GU51 3LA\, United Kingdom
CATEGORIES:Who's in
END:VEVENT
BEGIN:VEVENT
DTSTART;VALUE=DATE:20190925
DTEND;VALUE=DATE:20190929
DTSTAMP:20260419T133911
CREATED:20190919T111742Z
LAST-MODIFIED:20190919T111742Z
UID:1791-1569369600-1569715199@www.hartshopping.co.uk
SUMMARY:Quite Simply Designs by Heidi Stone
DESCRIPTION:Heidi has a beautiful range of unique handcrafted jewellery with semi-precious gemstones and pearls and  also offers a re-stringing and repair service.
URL:https://www.hartshopping.co.uk/event/quite-simply-designs-heidi-stone-3-2-2-2-2-2-2-2-2-2-2-2-3-2-2-2-2-2-2-2-2-2-2-2-2-2-2-2-2-2-2-2-4-2-2-2-2-2-2-2-2/
LOCATION:Hart Shopping Centre\, Fleet Road\, Fleet\, GU51 3LA\, United Kingdom
CATEGORIES:Who's in
END:VEVENT
BEGIN:VEVENT
DTSTART;VALUE=DATE:20190918
DTEND;VALUE=DATE:20190922
DTSTAMP:20260419T133911
CREATED:20190912T095747Z
LAST-MODIFIED:20190912T095747Z
UID:1768-1568764800-1569110399@www.hartshopping.co.uk
SUMMARY:Quite Simply Designs by Heidi Stone
DESCRIPTION:Heidi has a beautiful range of unique handcrafted jewellery with semi-precious gemstones and pearls and  also offers a re-stringing and repair service.
URL:https://www.hartshopping.co.uk/event/quite-simply-designs-heidi-stone-3-2-2-2-2-2-2-2-2-2-2-2-3-2-2-2-2-2-2-2-2-2-2-2-2-2-2-2-2-2-2-2-4-2-2-2-2-2-2-2/
LOCATION:Hart Shopping Centre\, Fleet Road\, Fleet\, GU51 3LA\, United Kingdom
CATEGORIES:Who's in
END:VEVENT
BEGIN:VEVENT
DTSTART;TZID=Europe/London:20190914T090000
DTEND;TZID=Europe/London:20190914T160000
DTSTAMP:20260419T133911
CREATED:20180906T093730Z
LAST-MODIFIED:20190905T110334Z
UID:1287-1568451600-1568476800@www.hartshopping.co.uk
SUMMARY:Royal Air Force Association Charity
DESCRIPTION:The Royal Air Forces Association is the largest single Service membership organisation and the longest standing registered service charity that provides welfare support to the RAF family.
URL:https://www.hartshopping.co.uk/event/royal-air-force-association-charity/
END:VEVENT
BEGIN:VEVENT
DTSTART;VALUE=DATE:20190911
DTEND;VALUE=DATE:20190915
DTSTAMP:20260419T133911
CREATED:20190905T105149Z
LAST-MODIFIED:20190905T105149Z
UID:1756-1568160000-1568505599@www.hartshopping.co.uk
SUMMARY:Quite Simply Designs by Heidi Stone
DESCRIPTION:Heidi has a beautiful range of unique handcrafted jewellery with semi-precious gemstones and pearls and  also offers a re-stringing and repair service.
URL:https://www.hartshopping.co.uk/event/quite-simply-designs-heidi-stone-3-2-2-2-2-2-2-2-2-2-2-2-3-2-2-2-2-2-2-2-2-2-2-2-2-2-2-2-2-2-2-2-4-2-2-2-2-2-2/
LOCATION:Hart Shopping Centre\, Fleet Road\, Fleet\, GU51 3LA\, United Kingdom
CATEGORIES:Who's in
END:VEVENT
BEGIN:VEVENT
DTSTART;VALUE=DATE:20190904
DTEND;VALUE=DATE:20190908
DTSTAMP:20260419T133911
CREATED:20190829T155142Z
LAST-MODIFIED:20190829T155142Z
UID:1750-1567555200-1567900799@www.hartshopping.co.uk
SUMMARY:Quite Simply Designs by Heidi Stone
DESCRIPTION:Heidi has a beautiful range of unique handcrafted jewellery with semi-precious gemstones and pearls and  also offers a re-stringing and repair service.
URL:https://www.hartshopping.co.uk/event/quite-simply-designs-heidi-stone-3-2-2-2-2-2-2-2-2-2-2-2-3-2-2-2-2-2-2-2-2-2-2-2-2-2-2-2-2-2-2-2-4-2-2-2-2-2/
LOCATION:Hart Shopping Centre\, Fleet Road\, Fleet\, GU51 3LA\, United Kingdom
CATEGORIES:Who's in
END:VEVENT
END:VCALENDAR