BEGIN:VCALENDAR
VERSION:2.0
PRODID:-//Hart Shopping Centre - ECPv6.15.20//NONSGML v1.0//EN
CALSCALE:GREGORIAN
METHOD:PUBLISH
X-WR-CALNAME:Hart Shopping Centre
X-ORIGINAL-URL:https://www.hartshopping.co.uk
X-WR-CALDESC:Events for Hart Shopping Centre
REFRESH-INTERVAL;VALUE=DURATION:PT1H
X-Robots-Tag:noindex
X-PUBLISHED-TTL:PT1H
BEGIN:VTIMEZONE
TZID:Europe/London
BEGIN:DAYLIGHT
TZOFFSETFROM:+0000
TZOFFSETTO:+0100
TZNAME:BST
DTSTART:20220327T010000
END:DAYLIGHT
BEGIN:STANDARD
TZOFFSETFROM:+0100
TZOFFSETTO:+0000
TZNAME:GMT
DTSTART:20221030T010000
END:STANDARD
BEGIN:DAYLIGHT
TZOFFSETFROM:+0000
TZOFFSETTO:+0100
TZNAME:BST
DTSTART:20230326T010000
END:DAYLIGHT
BEGIN:STANDARD
TZOFFSETFROM:+0100
TZOFFSETTO:+0000
TZNAME:GMT
DTSTART:20231029T010000
END:STANDARD
BEGIN:DAYLIGHT
TZOFFSETFROM:+0000
TZOFFSETTO:+0100
TZNAME:BST
DTSTART:20240331T010000
END:DAYLIGHT
BEGIN:STANDARD
TZOFFSETFROM:+0100
TZOFFSETTO:+0000
TZNAME:GMT
DTSTART:20241027T010000
END:STANDARD
END:VTIMEZONE
BEGIN:VEVENT
DTSTART;TZID=Europe/London:20231122T140000
DTEND;TZID=Europe/London:20231122T200000
DTSTAMP:20260423T040819
CREATED:20231030T124149Z
LAST-MODIFIED:20231030T124211Z
UID:2700-1700661600-1700683200@www.hartshopping.co.uk
SUMMARY:Fleet Christmas Festival 2023
DESCRIPTION:  \n 
URL:https://www.hartshopping.co.uk/event/fleet-christmas-festival-2023/
END:VEVENT
BEGIN:VEVENT
DTSTART;TZID=Europe/London:20231127T080000
DTEND;TZID=Europe/London:20231127T170000
DTSTAMP:20260423T040819
CREATED:20231127T084714Z
LAST-MODIFIED:20231127T084714Z
UID:2716-1701072000-1701104400@www.hartshopping.co.uk
SUMMARY:Small Business Saturday - 2nd December - Free Parking
DESCRIPTION:In support of Small Business Saturday\, Hart Shopping Centre will be offering free parking on Saturday 2nd December
URL:https://www.hartshopping.co.uk/event/small-business-saturday-2nd-december-free-parking/
END:VEVENT
END:VCALENDAR