BEGIN:VCALENDAR
VERSION:2.0
PRODID:-//Hart Shopping Centre - ECPv6.15.20//NONSGML v1.0//EN
CALSCALE:GREGORIAN
METHOD:PUBLISH
X-WR-CALNAME:Hart Shopping Centre
X-ORIGINAL-URL:https://www.hartshopping.co.uk
X-WR-CALDESC:Events for Hart Shopping Centre
REFRESH-INTERVAL;VALUE=DURATION:PT1H
X-Robots-Tag:noindex
X-PUBLISHED-TTL:PT1H
BEGIN:VTIMEZONE
TZID:Europe/London
BEGIN:DAYLIGHT
TZOFFSETFROM:+0000
TZOFFSETTO:+0100
TZNAME:BST
DTSTART:20240331T010000
END:DAYLIGHT
BEGIN:STANDARD
TZOFFSETFROM:+0100
TZOFFSETTO:+0000
TZNAME:GMT
DTSTART:20241027T010000
END:STANDARD
BEGIN:DAYLIGHT
TZOFFSETFROM:+0000
TZOFFSETTO:+0100
TZNAME:BST
DTSTART:20250330T010000
END:DAYLIGHT
BEGIN:STANDARD
TZOFFSETFROM:+0100
TZOFFSETTO:+0000
TZNAME:GMT
DTSTART:20251026T010000
END:STANDARD
BEGIN:DAYLIGHT
TZOFFSETFROM:+0000
TZOFFSETTO:+0100
TZNAME:BST
DTSTART:20260329T010000
END:DAYLIGHT
BEGIN:STANDARD
TZOFFSETFROM:+0100
TZOFFSETTO:+0000
TZNAME:GMT
DTSTART:20261025T010000
END:STANDARD
END:VTIMEZONE
BEGIN:VEVENT
DTSTART;TZID=Europe/London:20250812T100000
DTEND;TZID=Europe/London:20250812T140000
DTSTAMP:20260421T091801
CREATED:20250805T110829Z
LAST-MODIFIED:20250805T110829Z
UID:3147-1754992800-1755007200@www.hartshopping.co.uk
SUMMARY:Summer Activities run by the BID - 12th August & 27th August
DESCRIPTION:
URL:https://www.hartshopping.co.uk/event/summer-activities-run-by-the-bid-12th-august-27th-august/
END:VEVENT
BEGIN:VEVENT
DTSTART;TZID=Europe/London:20250829T210000
DTEND;TZID=Europe/London:20250830T033000
DTSTAMP:20260421T091801
CREATED:20250826T101347Z
LAST-MODIFIED:20250826T101347Z
UID:3180-1756501200-1756524600@www.hartshopping.co.uk
SUMMARY:Bunker presents Nathan Dawe
DESCRIPTION:
URL:https://www.hartshopping.co.uk/event/bunker-presents-nathan-dawe/
END:VEVENT
BEGIN:VEVENT
DTSTART;TZID=Europe/London:20250830T100000
DTEND;TZID=Europe/London:20250907T160000
DTSTAMP:20260421T091801
CREATED:20250816T084348Z
LAST-MODIFIED:20250816T084348Z
UID:3156-1756548000-1757260800@www.hartshopping.co.uk
SUMMARY:Summer Art Exhibition - Fleet Art Society
DESCRIPTION:
URL:https://www.hartshopping.co.uk/event/summer-art-exhibition-fleet-art-society/
END:VEVENT
END:VCALENDAR